BEGIN:VCALENDAR
VERSION:2.0
PRODID:-//ChamberMaster//Event Calendar 2.0//EN
METHOD:PUBLISH
X-PUBLISHED-TTL:P3D
REFRESH-INTERVAL:P3D
CALSCALE:GREGORIAN
BEGIN:VEVENT
DTSTART:20100127T060000Z
DTEND:20100127T060000Z
X-MICROSOFT-CDO-ALLDAYEVENT:FALSE
SUMMARY:Hyroglyfyc Networking Group - January
DESCRIPTION:Hyroglyfyc Networking Group - January
X-ALT-DESC;FMTTYPE=text/html:Hyroglyfyc Networking Group - January
LOCATION:LEGOLAND Discovery Center Chicago
UID:e.9129.695
SEQUENCE:3
DTSTAMP:20260424T210416Z
URL:https://members.schaumburgbusiness.com/events/details/hyroglyfyc-networking-group-january-01-27-2010-695
END:VEVENT

END:VCALENDAR
