BEGIN:VCALENDAR
VERSION:2.0
PRODID:-//ChamberMaster//Event Calendar 2.0//EN
METHOD:PUBLISH
X-PUBLISHED-TTL:P3D
REFRESH-INTERVAL:P3D
CALSCALE:GREGORIAN
BEGIN:VEVENT
DTSTART:20110330T230000Z
DTEND:20110331T013000Z
X-MICROSOFT-CDO-ALLDAYEVENT:FALSE
SUMMARY:Hyroglyfyc - Laugh Out Loud
DESCRIPTION:Join us for one of the most entertaining ways to connect with people\, build relationships creatively\, get yourself an award/t-shirt and get something to eat. \nPIRATE PARTY!Giggling quietly at a pirate party\n\nHave you ever laughed out loud at a pirate party I have and let me tell you it didn't end well. What does this have to do with Hyroglyfyc you ask Well matey this month we are back at one of our favorite places to host\, Laugh Out Loud. Lilly will be running the show this time and when I say running the show I really mean you. Because you are the show. \n\nIf you thought you got to know people pitching your Oprah Network show or possibly doing a commercial marketing the euphoria of eating beef to toddlers you ain't seen nothin yet. For those of you not familiar with street lingo that means 'Thou hast seeneth not a thing at this moment' in proper english.\n\n$10 for SBA members and $15 for non SBA members\n\nCash bar and we will have food.\n\nGet ready burn some calories and get to know fellow business people in a new and creative way.
X-ALT-DESC;FMTTYPE=text/html:<P align=center><STRONG>Join us for one of the most entertaining ways to connect with people\, build relationships creatively\, get yourself an award/t-shirt and get something to eat. <BR></STRONG><FONT color=#008000></FONT></P><P align=center><FONT color=#008000>PIRATE PARTY!</FONT></P><P align=center><FONT color=#008000><FONT face=Tahoma>Giggling quietly at a pirate party<BR><BR>Have you ever laughed out loud at a pirate party I have and let me tell you it didn't end well. What does this have to do with Hyroglyfyc you ask Well matey this month we are back at one of our favorite places to host\, Laugh Out Loud. Lilly will be running the show this time and when I say running the show I really mean you. Because you are the show. <BR><BR>If you thought you got to know people pitching your Oprah Network show or possibly doing a commercial marketing the euphoria of eating beef to toddlers you ain't seen nothin yet. For those of you not familiar with street lingo that means 'Thou hast seeneth not a thing at this moment' in proper english.<BR><BR>$10 for SBA members and $15 for non SBA members<BR><BR>Cash bar and we will have food.<BR><BR>Get ready burn some calories and get to know fellow business people in a new and creative way.<BR></FONT></P></FONT>
LOCATION:Laugh Out Loud
UID:e.9129.260
SEQUENCE:3
DTSTAMP:20260424T023940Z
URL:https://members.schaumburgbusiness.com/events/details/hyroglyfyc-laugh-out-loud-03-30-2011-260
END:VEVENT

END:VCALENDAR
