BEGIN:VCALENDAR
VERSION:2.0
PRODID:-//ChamberMaster//Event Calendar 2.0//EN
METHOD:PUBLISH
X-PUBLISHED-TTL:P3D
REFRESH-INTERVAL:P3D
CALSCALE:GREGORIAN
BEGIN:VEVENT
DTSTART:20110127T000000Z
DTEND:20110127T023000Z
X-MICROSOFT-CDO-ALLDAYEVENT:FALSE
SUMMARY:Hyroglyfyc - January
DESCRIPTION:Yes\, January 2011 kicks off our first of ten events this year for Hyroglyfyc. There is no better place to do that than Whole Foods in Schaumburg.\n\nIt is going to be a creative explosion in a place with some of the best food that is Whole you can find. 'Wait'\, you say...'did you just give away the subject matter for the Black Box project That could ruin the whole anticipation for me.'\n\nWorry not. I gave nothing away. Join us this January 26th for one of the most entertaining ways to connect with people\, build relationships creatively \,get yourself an award/t-shirt and get something to eat. \n\nCost for this event is $10 for SBA members and $15 for non-SBA members.\n\nPlease rsvp as we will need to give a head count for food at the event.
X-ALT-DESC;FMTTYPE=text/html:<DIV style='FONT-FAMILY: Arial'><P style='MARGIN: 0in 0in 0pt' class=MsoNormal><FONT face='Times New Roman'><FONT face=Arial><STRONG>Yes\, January 2011 kicks off our first of ten events this year for Hyroglyfyc. There is no better place to do that than Whole Foods in Schaumburg.<BR><BR>It is going to be a creative explosion in a place with some of the best food that is Whole you can find. 'Wait'\, you say...'did you just give away the subject matter for the Black Box project That could ruin the whole anticipation for me.'<BR><BR>Worry not. I gave nothing away. Join us this January 26th for one of the most entertaining ways to connect with people\, build relationships creatively \,get yourself an award/t-shirt and get something to eat. <BR><BR>Cost for this event is $10 for SBA members and $15 for non-SBA members.<BR><BR>Please rsvp as we will need to give a head count for food at the event</STRONG></FONT>.</FONT></P></DIV>
LOCATION:Whole Foods Market
UID:e.9129.241
SEQUENCE:3
DTSTAMP:20260424T045306Z
URL:https://members.schaumburgbusiness.com/events/details/hyroglyfyc-january-01-26-2011-241
END:VEVENT

END:VCALENDAR
