BEGIN:VCALENDAR
VERSION:2.0
PRODID:-//ChamberMaster//Event Calendar 2.0//EN
METHOD:PUBLISH
X-PUBLISHED-TTL:P3D
REFRESH-INTERVAL:P3D
CALSCALE:GREGORIAN
BEGIN:VEVENT
DTSTART:20110629T230000Z
DTEND:20110630T013000Z
X-MICROSOFT-CDO-ALLDAYEVENT:FALSE
SUMMARY:Hyroglyfyc Black Box Challenge - Divine Signs
DESCRIPTION:Join us for one of the most entertaining ways to connect with people\, build relationships creatively\, get yourself an award/t-shirt and get something to eat. VIP: Black DiamondWhat is thisUnsure as you have never seen a Black Diamond invite from Hyroglyfyc. This is the only spontaneously creative get together of this magnitude. Well\, creatives and creativettes\, you will have to make it to Divine Signs this month to find out. This is event 6 of 10 this year and as always we aren't telling you a thing. You just have to show up!\nOk ok...just a hint... Just like Black Diamond is the ultimate credit card\, to the winners Black Diamond is the ultimate...    See you at the event!\nCost - $10 for SBA members - $15 for non SBA members\n\nCap for the event - 50 people\n\n\nPlease rsvp as we will need to give a head count for food at the event.
X-ALT-DESC;FMTTYPE=text/html:<P align=center><STRONG><EM>Join us for one of the most entertaining ways to connect with people\, build relationships creatively\, get yourself an award/t-shirt and get something to eat. </EM></STRONG></P><P align=center><FONT color=#000000 size=5 face=Tahoma>VIP: Black Diamond</FONT></P><P align=center><FONT color=#0000a0 size=4 face=Tahoma>What is this</FONT></P><P align=center><FONT color=#0000a0 size=4 face=Tahoma>Unsure as you have never seen a <FONT color=#000000>Black Diamond</FONT> invite from Hyroglyfyc. This is the only spontaneously creative get together of this magnitude. Well\, creatives and creativettes\, you will have to make it to Divine Signs this month to find out. This is event 6 of 10 this year and as always we aren't telling you a thing. You just have to show up!</FONT></P><FONT face=Tahoma><P align=center><BR><FONT color=#008080 size=4>Ok ok...just a hint... Just like <FONT color=#000000>Black Diamond</FONT> is the ultimate credit card\, to the winners <FONT color=#000000>Black Diamond</FONT> is the ultimate...&nbsp\;&nbsp\;&nbsp\; See you at the event!</FONT></P><P align=center><BR><FONT color=#ff8000>Cost - $10 for SBA members - $15 for non SBA members<BR><BR>Cap for the event - 50 people<BR><BR><BR></FONT></FONT><FONT face=Tahoma><STRONG>Please rsvp as we will need to give a head count for food at the event</STRONG>.</FONT></P>
LOCATION:Divine Signs
UID:e.9129.263
SEQUENCE:3
DTSTAMP:20260423T225320Z
URL:https://members.schaumburgbusiness.com/events/details/hyroglyfyc-black-box-challenge-divine-signs-06-29-2011-263
END:VEVENT

END:VCALENDAR
