BEGIN:VCALENDAR
VERSION:2.0
PRODID:-//ChamberMaster//Event Calendar 2.0//EN
METHOD:PUBLISH
X-PUBLISHED-TTL:P3D
REFRESH-INTERVAL:P3D
CALSCALE:GREGORIAN
BEGIN:VEVENT
DTSTART:20110525T230000Z
DTEND:20110526T013000Z
X-MICROSOFT-CDO-ALLDAYEVENT:FALSE
SUMMARY:Hyroglyfyc Black Box Challenge - Disney Doorway to Dreams
DESCRIPTION:Join us for one of the most entertaining ways to connect with people\, build relationships creatively\, get yourself an award/t-shirt and get something to eat. \n\nCost for this event is $10 for SBA members and $15 for non-SBA members.\n\nPlease rsvp as we will need to give a head count for food at the event
X-ALT-DESC;FMTTYPE=text/html:<P align=center><FONT size=4><FONT color=#400080><STRONG>Join us for one of the most entertaining ways to connect with people\, build relationships creatively\, get yourself an award/t-shirt and get something to eat. <BR><BR>Cost for this event is $10 for SBA members and $15 for non-SBA members.<BR><BR><EM>Please rsvp as we will need to give a head count for food at the event</EM></STRONG></FONT></FONT></P>
LOCATION:Disney Doorway to Dreams
UID:e.9129.262
SEQUENCE:3
DTSTAMP:20260424T001511Z
URL:https://members.schaumburgbusiness.com/events/details/hyroglyfyc-black-box-challenge-disney-doorway-to-dreams-05-25-2011-262
END:VEVENT

END:VCALENDAR
