BEGIN:VCALENDAR
VERSION:2.0
PRODID:-//ChamberMaster//Event Calendar 2.0//EN
METHOD:PUBLISH
X-PUBLISHED-TTL:P3D
REFRESH-INTERVAL:P3D
CALSCALE:GREGORIAN
BEGIN:VEVENT
DTSTART:20110831T230000Z
DTEND:20110901T013000Z
X-MICROSOFT-CDO-ALLDAYEVENT:FALSE
SUMMARY:Hyroglyfyc Black Box Challenge - Directions AV
DESCRIPTION:TONIGHT IS THE NIGHT!!!\n\nWe've always thought of the Glyfy as the Walmart Oscar.However with the new Black Diamond Glyfy that was given away last month\, congrats to team Y.B.U.\, I think we can now safely say the Glyfy is the Target Oscar.\n\nSo in the spirit of Oscar we go to Directions AV for the monthly creative extravaganza known as Hyroglyfyc. For those who have never been to Directions AV it is quite possibly one of the coolest buildings in the area. They are a production company with all the goodies like a green screen room\, theater\, bathroom with shower\, and so on.\n\nWith that\, the Black Box Challenge this month is going to involve you\, your team\, a beverage and...\n\n...that's all we are saying. If you went last year you may have an idea of what this month will be like. You might.\n\nFood - yes. Drinks - non-alcholic - yes.\n\nCost - $10 SBA member $15 non SBA member\n\nMake up and Hair - not provided\n\nWe have only 4 events left in the year and this is one you will most certainly have a blast at.
X-ALT-DESC;FMTTYPE=text/html:<P align=center><FONT color=#000040 size=4> </FONT></P><P align=center><FONT color=#000040 size=4>TONIGHT IS THE NIGHT!!!<BR><BR>We've always thought of the Glyfy as the Walmart Oscar.</FONT></P><P align=center><FONT color=#000040 size=4>However with the new Black Diamond Glyfy that was given away last month\, congrats to team Y.B.U.\, I think we can now safely say the Glyfy is the Target Oscar.<BR><BR>So in the spirit of Oscar we go to Directions AV for the monthly creative extravaganza known as Hyroglyfyc. For those who have never been to Directions AV it is quite possibly one of the coolest buildings in the area. They are a production company with all the goodies like a green screen room\, theater\, bathroom with shower\, and so on.<BR><BR>With that\, the Black Box Challenge this month is going to involve you\, your team\, a beverage and...<BR><BR>...that's all we are saying. If you went last year you may have an idea of what this month will be like. You might.<BR><BR>Food - yes. Drinks - non-alcholic - yes.<BR><BR>Cost - $10 SBA member $15 non SBA member<BR><BR>Make up and Hair - not provided<BR><BR></FONT><FONT color=#000040 size=4>We have only 4 events left in the year and this is one you will most certainly have a blast at.<BR><BR></P></FONT>
LOCATION:Directions AV
UID:e.9129.265
SEQUENCE:3
DTSTAMP:20260423T195522Z
URL:https://members.schaumburgbusiness.com/events/details/hyroglyfyc-black-box-challenge-directions-av-08-31-2011-265
END:VEVENT

END:VCALENDAR
