BEGIN:VCALENDAR
VERSION:2.0
PRODID:-//ChamberMaster//Event Calendar 2.0//EN
METHOD:PUBLISH
X-PUBLISHED-TTL:P3D
REFRESH-INTERVAL:P3D
CALSCALE:GREGORIAN
BEGIN:VEVENT
DTSTART:20110727T230000Z
DTEND:20110728T013000Z
X-MICROSOFT-CDO-ALLDAYEVENT:FALSE
SUMMARY:Hyroglyfyc Black Box Challenge - Directions AV
DESCRIPTION:This month\, we go to Directions AV for the creative extravaganza known as Hyroglyfyc. For those who have never been to Directions AV it is quite possibly one of the coolest buildings in the area. They are a production company with all the goodies like a green screen room\, theater\, bathroom with shower\, and so on.\n\nWith that\, the Black Box Challenge this month is going to involve you\, your team\, a beverage and...\n\n...that's all we are saying. If you went last year you may have an idea of what this month will be like. You might.\n\nFood - yes. Drinks - non-alcholic - yes.\n\nCost - $10 SBA member $15 non SBA member\n\nMake up and Hair - not provided\n\nWe have only 4 events left in the year and this is one you will most certainly have a blast at.\n\nSee you on the 27th!
X-ALT-DESC;FMTTYPE=text/html:<P align=center><FONT size=4><FONT color=#004080><FONT face=Courier><FONT size=3>This&nbsp\;month\,&nbsp\;we go to Directions AV for the creative extravaganza known as Hyroglyfyc. For those who have never been to Directions AV it is quite possibly one of the coolest buildings in the area. They are a production company with all the goodies like a green screen room\, theater\, bathroom with shower\, and so on.<BR><BR>With that\, the Black Box Challenge this month is going to involve you\, your team\, a beverage and...<BR><BR>...that's all we are saying. If you went last year you may have an idea of what this month will be like. You might.<BR><BR>Food - yes. Drinks - non-alcholic - yes.<BR><BR>Cost - $10 SBA member $15 non SBA member<BR><BR>Make up and Hair - not provided<BR></FONT><BR></FONT></FONT><FONT color=#004080 size=3 face=Courier>We have only 4 events left in the year and this is one you will most certainly have a blast at.<BR><BR>See you on the 27th!</FONT></P></FONT>
LOCATION:Directions AV
UID:e.9129.264
SEQUENCE:3
DTSTAMP:20260423T213338Z
URL:https://members.schaumburgbusiness.com/events/details/hyroglyfyc-black-box-challenge-directions-av-07-27-2011-264
END:VEVENT

END:VCALENDAR
