BEGIN:VCALENDAR
VERSION:2.0
PRODID:-//ChamberMaster//Event Calendar 2.0//EN
METHOD:PUBLISH
X-PUBLISHED-TTL:P3D
REFRESH-INTERVAL:P3D
CALSCALE:GREGORIAN
BEGIN:VEVENT
DTSTART:20110427T230000Z
DTEND:20110428T013000Z
X-MICROSOFT-CDO-ALLDAYEVENT:FALSE
SUMMARY:Hyroglyfyc Black Box Challenge - Curtis Newborn Photographic
DESCRIPTION:This month we travel to the ultra hip\, invite only\, super exclusive\, talk of the entire north east schaumburg region\, photography studio of Curtis Newborn. Yes that Curtis Newborn\, the man with the golden eye. Or something to that effect.\n\nThe black box challenge will involve stuff and things you have to do. That is the only hint we are giving away.\n\nCurtis' studio is located about a quarter mile south of Mad Marks and we will have signage at the street directing you to his studio.\n\nLooking forward to seeing you all there!Cost for this event is $10 for SBA members and $15 for non-SBA members.\n\nPlease rsvp as we will need to give a head count for food at the event
X-ALT-DESC;FMTTYPE=text/html:<P align=center><FONT color=#008080 size=4 face=Arial>This month we travel to the ultra hip\, invite only\, super exclusive\, talk of the entire north east schaumburg region\, photography studio of Curtis Newborn. Yes that Curtis Newborn\, the man with the golden eye. Or something to that effect.<BR><BR>The black box challenge will involve stuff and things you have to do. That is the only hint we are giving away.<BR><BR>Curtis' studio is located about a quarter mile south of Mad Marks and we will have signage at the street directing you to his studio.<BR><BR>Looking forward to seeing you all there!</FONT></P><P align=center><FONT size=4><FONT color=#400080><STRONG>Cost for this event is $10 for SBA members and $15 for non-SBA members.<BR><BR><EM>Please rsvp as we will need to give a head count for food at the event</EM></STRONG></FONT></FONT></P>
LOCATION:Curtis Newborn Photographic
UID:e.9129.261
SEQUENCE:3
DTSTAMP:20260424T013323Z
URL:https://members.schaumburgbusiness.com/events/details/hyroglyfyc-black-box-challenge-curtis-newborn-photographic-04-27-2011-261
END:VEVENT

END:VCALENDAR
