BEGIN:VCALENDAR
VERSION:2.0
PRODID:-//ChamberMaster//Event Calendar 2.0//EN
METHOD:PUBLISH
X-PUBLISHED-TTL:P3D
REFRESH-INTERVAL:P3D
CALSCALE:GREGORIAN
BEGIN:VEVENT
DTSTART:20101027T233000Z
DTEND:20101028T020000Z
X-MICROSOFT-CDO-ALLDAYEVENT:FALSE
SUMMARY:Hyroglyfic Networking Group - October
DESCRIPTION:Hyroglyfyc One Year Anniversary Spectacular  Happy Anniversary Creatives!\n\nYes it has been one year since the big first event at Directions AV last year and we want to thank you for coming out and participating!\n\nSo this month we will be going to Chicago Education Project\, our charity give back partner\, to celebrate one year and kick off the rebranding project for CEP.\n\n'So what's going to be there' you ask. Well for starters how about catering from Lou Malnati's\, yes and celebratory cup cakes from Cinnabon. Oooohhhh\, and give aways\, gift cards\, tshirts and a killer black box project that is certainly relevant to the atmosphere. Atmosphere of what you ask\, you'll see. \n\nWe would love to see you all come out and help celebrate what has been a great year of getting creative pulling off some hilarious projects! Questions Contact Ben Olson at 630.546.9117 or ben@3mastudios.com
X-ALT-DESC;FMTTYPE=text/html:<P style='MARGIN: 0in 0in 0pt' class=MsoNormal><B style='mso-bidi-font-weight: normal'><SPAN style='FONT-FAMILY: 'Arial'\,'sans-serif'\; COLOR: #002060\; FONT-SIZE: 12pt\; mso-bidi-font-family: 'Times New Roman'\; mso-bidi-theme-font: minor-bidi'>Hyroglyfyc One Year Anniversary Spectacular<xml:namespace prefix = o ns = 'urn:schemas-microsoft-com:office:office' /><o:p></o:p></SPAN></B></P><P style='MARGIN: 0in 0in 0pt' class=MsoNormal><SPAN style='FONT-FAMILY: 'Arial'\,'sans-serif'\; COLOR: #595959\; mso-bidi-font-family: 'Times New Roman'\; mso-bidi-theme-font: minor-bidi\; mso-themecolor: text1\; mso-themetint: 166'><o:p>&nbsp\;</o:p></SPAN></P><P style='MARGIN: 0in 0in 0pt' class=MsoNormal><B><SPAN style='FONT-FAMILY: 'Arial'\,'sans-serif'\; COLOR: #595959\; mso-themecolor: text1\; mso-themetint: 166\; mso-ansi-language: EN' lang=EN><o:p>&nbsp\;</o:p></SPAN></B></P><P style='MARGIN: 0in 0in 0pt' class=MsoNormal><B><SPAN style='FONT-FAMILY: 'Arial'\,'sans-serif'\; COLOR: #595959\; mso-themecolor: text1\; mso-themetint: 166\; mso-ansi-language: EN' lang=EN>Happy Anniversary Creatives!</SPAN></B><SPAN style='FONT-FAMILY: 'Arial'\,'sans-serif'\; COLOR: #595959\; mso-themecolor: text1\; mso-themetint: 166\; mso-ansi-language: EN' lang=EN><BR><BR>Yes it has been one year since the big first event at Directions AV last year and we want to thank you for coming out and participating!<BR><BR>So this month we will be going to Chicago Education Project\, our charity give back partner\, to celebrate one year and kick off the rebranding project for CEP.<BR><BR>'So what's going to be there' you ask. Well for starters how about catering from Lou Malnati's\, yes and celebratory cup cakes from Cinnabon. Oooohhhh\, and give aways\, gift cards\, tshirts and a killer black box project that is certainly relevant to the atmosphere. Atmosphere of what you ask\, you'll see. <BR><BR>We would love to see you all come out and help celebrate what has been a great year of getting creative pulling off some hilarious projects!<o:p></o:p></SPAN></P><DIV style='FONT-FAMILY: Arial'>&nbsp\;</DIV><DIV style='FONT-FAMILY: Arial'>Questions Contact Ben Olson at 630.546.9117 or <A href='mailto:ben@3mastudios.com'>ben@3mastudios.com</A>&nbsp\;</DIV>
LOCATION:Chicago Education Project
UID:e.9129.224
SEQUENCE:3
DTSTAMP:20260424T085450Z
URL:https://members.schaumburgbusiness.com/events/details/hyroglyfic-networking-group-october-10-27-2010-224
END:VEVENT

END:VCALENDAR
