BEGIN:VCALENDAR
VERSION:2.0
PRODID:-//ChamberMaster//Event Calendar 2.0//EN
METHOD:PUBLISH
X-PUBLISHED-TTL:P3D
REFRESH-INTERVAL:P3D
CALSCALE:GREGORIAN
BEGIN:VEVENT
DTSTART:20100623T050000Z
DTEND:20100623T050000Z
X-MICROSOFT-CDO-ALLDAYEVENT:FALSE
SUMMARY:Hyroglyfic Networking Group - June
DESCRIPTION:Hyroglyfic Networking Group - June
X-ALT-DESC;FMTTYPE=text/html:Hyroglyfic Networking Group - June
LOCATION:
UID:e.9129.704
SEQUENCE:3
DTSTAMP:20260424T140223Z
URL:https://members.schaumburgbusiness.com/events/details/hyroglyfic-networking-group-june-06-23-2010-704
END:VEVENT

END:VCALENDAR
