BEGIN:VCALENDAR
VERSION:2.0
PRODID:-//ChamberMaster//Event Calendar 2.0//EN
METHOD:PUBLISH
X-PUBLISHED-TTL:P3D
REFRESH-INTERVAL:P3D
CALSCALE:GREGORIAN
BEGIN:VEVENT
DTSTART:20101222T060000Z
DTEND:20101222T060000Z
X-MICROSOFT-CDO-ALLDAYEVENT:FALSE
SUMMARY:Hyroglyfic Networking Group - December
DESCRIPTION:Hyroglyfic Networking Group - December
X-ALT-DESC;FMTTYPE=text/html:Hyroglyfic Networking Group - December
LOCATION:
UID:e.9129.699
SEQUENCE:3
DTSTAMP:20260424T061322Z
URL:https://members.schaumburgbusiness.com/events/details/hyroglyfic-networking-group-december-12-22-2010-699
END:VEVENT

END:VCALENDAR
