BEGIN:VCALENDAR
VERSION:2.0
PRODID:-//ChamberMaster//Event Calendar 2.0//EN
METHOD:PUBLISH
X-PUBLISHED-TTL:P3D
REFRESH-INTERVAL:P3D
CALSCALE:GREGORIAN
BEGIN:VEVENT
DTSTART:20100825T050000Z
DTEND:20100825T050000Z
X-MICROSOFT-CDO-ALLDAYEVENT:FALSE
SUMMARY:Hyroglyfic Networking Group - August
DESCRIPTION:Hyroglyfic Networking Group - August
X-ALT-DESC;FMTTYPE=text/html:Hyroglyfic Networking Group - August
LOCATION:
UID:e.9129.706
SEQUENCE:3
DTSTAMP:20260424T123625Z
URL:https://members.schaumburgbusiness.com/events/details/hyroglyfic-networking-group-august-08-25-2010-706
END:VEVENT

END:VCALENDAR
