BEGIN:VCALENDAR
VERSION:2.0
PRODID:-//ChamberMaster//Event Calendar 2.0//EN
METHOD:PUBLISH
X-PUBLISHED-TTL:P3D
REFRESH-INTERVAL:P3D
CALSCALE:GREGORIAN
BEGIN:VEVENT
DTSTART:20101214T133000Z
DTEND:20101214T150000Z
X-MICROSOFT-CDO-ALLDAYEVENT:FALSE
SUMMARY:Good Morning Schaumburg: SBA Annual Mtg/Holiday Celebration
DESCRIPTION:Please Join the SBA in CelebratingOur Annual Meeting & the Holiday SeasonAt a Special Good Morning Schaumburg                       Sponsored ByWoodfield Shopping Mall Enjoy a wonderful breakfast buffet\, relieve the stress of the Holidays with some laughs with Comedian Bill Bunker compliments of Chicago Improv of Schaumburg\, and join us in thanking retiring Board members and welcoming new Board members to the SBA table. Every attendee will receive a special goodie bag and will have a chance to win over $1\,000 in prizes! Please make your reservation early and contact the SBA offices at 847.413.1010 if you would like to sponsor a display table or donate a prize.  Special Thanks to Media Sponsor: Daily Herald
X-ALT-DESC;FMTTYPE=text/html:<DIV><P style='TEXT-ALIGN: center\; LINE-HEIGHT: normal\; MARGIN: 0in 0in 6pt' class=MsoNormal align=center><B><I style='mso-bidi-font-style: normal'><SPAN style='FONT-FAMILY: 'Arial'\,'sans-serif'\; FONT-SIZE: 14pt\; mso-fareast-font-family: 'Times New Roman''>Please Join the SBA in Celebrating<xml:namespace prefix = o ns = 'urn:schemas-microsoft-com:office:office' /><o:p></o:p></SPAN></I></B></P><P style='TEXT-ALIGN: center\; LINE-HEIGHT: normal\; MARGIN: 0in 0in 6pt' class=MsoNormal align=center><B><SPAN style='FONT-FAMILY: 'Arial'\,'sans-serif'\; FONT-SIZE: 14pt\; mso-fareast-font-family: 'Times New Roman''>Our Annual Meeting &amp\; the Holiday Season<o:p></o:p></SPAN></B></P><P style='TEXT-ALIGN: center\; LINE-HEIGHT: normal\; MARGIN: 0in 0in 0pt' class=MsoNormal align=center><B><SPAN style='FONT-FAMILY: 'Arial'\,'sans-serif'\; FONT-SIZE: 14pt\; mso-fareast-font-family: 'Times New Roman''>At a Special Good Morning Schaumburg<o:p></o:p></SPAN></B></P><P style='LINE-HEIGHT: normal\; MARGIN: 0in 0in 0pt\; tab-stops: 82.5pt' class=MsoNormal><SPAN style='FONT-FAMILY: 'Arial'\,'sans-serif'\; FONT-SIZE: 14pt\; mso-fareast-font-family: 'Times New Roman'\; mso-bidi-font-weight: bold'><o:p>&nbsp\;</o:p></SPAN><SPAN style='FONT-FAMILY: 'Arial'\,'sans-serif'\; FONT-SIZE: 14pt\; mso-fareast-font-family: 'Times New Roman'\; mso-bidi-font-weight: bold'><SPAN style='mso-tab-count: 1'>&nbsp\;&nbsp\;&nbsp\;&nbsp\;&nbsp\;&nbsp\;&nbsp\;&nbsp\;&nbsp\;&nbsp\;&nbsp\;&nbsp\;&nbsp\;&nbsp\;&nbsp\;&nbsp\;&nbsp\;&nbsp\;&nbsp\;&nbsp\;&nbsp\; </SPAN><o:p></o:p></SPAN></P><P style='LINE-HEIGHT: normal\; MARGIN: 0in 0in 0pt' class=MsoNormal><SPAN style='FONT-FAMILY: 'Arial'\,'sans-serif'\; FONT-SIZE: 14pt\; mso-fareast-font-family: 'Times New Roman'\; mso-bidi-font-weight: bold'><FONT color=#008000><STRONG>Sponsored By</STRONG></FONT></SPAN></P><P style='LINE-HEIGHT: normal\; MARGIN: 0in 0in 0pt' class=MsoNormal><SPAN style='FONT-FAMILY: 'Arial'\,'sans-serif'\; FONT-SIZE: 14pt\; mso-fareast-font-family: 'Times New Roman'\; mso-bidi-font-weight: bold'><FONT color=#008000><STRONG>Woodfield Shopping Mall</STRONG></FONT></SPAN></P><P style='LINE-HEIGHT: normal\; MARGIN: 0in 0in 0pt' class=MsoNormal><SPAN style='FONT-FAMILY: 'Arial'\,'sans-serif'\; FONT-SIZE: 14pt\; mso-fareast-font-family: 'Times New Roman'\; mso-bidi-font-weight: bold'></SPAN></P><P style='LINE-HEIGHT: normal\; MARGIN: 0in 0in 0pt' class=MsoNormal><SPAN style='FONT-FAMILY: 'Arial'\,'sans-serif'\; FONT-SIZE: 14pt\; mso-fareast-font-family: 'Times New Roman'\; mso-bidi-font-weight: bold'><o:p></o:p></SPAN>&nbsp\;</P><P style='LINE-HEIGHT: normal\; MARGIN: 0in 0in 0pt' class=MsoNormal><SPAN style='FONT-FAMILY: 'Arial'\,'sans-serif'\; FONT-SIZE: 14pt\; mso-fareast-font-family: 'Times New Roman''>Enjoy a wonderful breakfast buffet\, relieve the stress of the Holidays with some laughs with <FONT color=#ff0000>Comedian Bill Bunker</FONT>&nbsp\;compliments of Chicago Improv of Schaumburg\, and join us in thanking retiring Board members and welcoming new Board members to the SBA table.<o:p></o:p></SPAN></P><P style='LINE-HEIGHT: normal\; MARGIN: 0in 0in 0pt' class=MsoNormal><SPAN style='FONT-FAMILY: 'Arial'\,'sans-serif'\; FONT-SIZE: 14pt\; mso-fareast-font-family: 'Times New Roman''><o:p>&nbsp\;</o:p></SPAN></P><P style='LINE-HEIGHT: normal\; MARGIN: 0in 0in 0pt' class=MsoNormal><SPAN style='FONT-FAMILY: 'Arial'\,'sans-serif'\; FONT-SIZE: 14pt\; mso-fareast-font-family: 'Times New Roman''><STRONG><EM>Every attendee will receive a special goodie bag and will have a chance to win over $1\,000 in prizes!<o:p></o:p></EM></STRONG></SPAN></P><P style='LINE-HEIGHT: normal\; MARGIN: 0in 0in 0pt' class=MsoNormal><SPAN style='FONT-FAMILY: 'Arial'\,'sans-serif'\; FONT-SIZE: 14pt\; mso-fareast-font-family: 'Times New Roman''><o:p>&nbsp\;</o:p></SPAN></P><P style='LINE-HEIGHT: normal\; MARGIN: 0in 0in 0pt' class=MsoNormal><SPAN style='FONT-FAMILY: 'Arial'\,'sans-serif'\; FONT-SIZE: 14pt\; mso-fareast-font-family: 'Times New Roman''>Please make your reservation early and contact the SBA offices at <SPAN style='mso-bidi-font-weight: bold'>847.413.1010 </SPAN>if you would like to sponsor a display table or donate a prize. <o:p></o:p></SPAN></P><P style='LINE-HEIGHT: normal\; MARGIN: 0in 0in 0pt' class=MsoNormal><SPAN style='FONT-FAMILY: 'Arial'\,'sans-serif'\; FONT-SIZE: 14pt\; mso-fareast-font-family: 'Times New Roman''><o:p>&nbsp\;</o:p></SPAN></P><P style='LINE-HEIGHT: normal\; MARGIN: 0in 0in 0pt' class=MsoNormal><I><SPAN style='FONT-FAMILY: 'Arial'\,'sans-serif'\; FONT-SIZE: 14pt\; mso-fareast-font-family: 'Times New Roman'\; mso-bidi-font-weight: bold'>Special Thanks to Media Sponsor: Daily Herald</SPAN></I><SPAN style='FONT-FAMILY: 'Arial'\,'sans-serif'\; FONT-SIZE: 14pt\; mso-fareast-font-family: 'Times New Roman''><o:p></o:p></SPAN></P><P>&nbsp\;</P></DIV>
LOCATION:Chicago Improv of Schaumburg
UID:e.9129.176
SEQUENCE:3
DTSTAMP:20260424T061834Z
URL:https://members.schaumburgbusiness.com/events/details/good-morning-schaumburg-sba-annual-mtg-holiday-celebration-12-14-2010-176
END:VEVENT

END:VCALENDAR
