BEGIN:VCALENDAR
VERSION:2.0
PRODID:-//ChamberMaster//Event Calendar 2.0//EN
METHOD:PUBLISH
X-PUBLISHED-TTL:P3D
REFRESH-INTERVAL:P3D
CALSCALE:GREGORIAN
BEGIN:VEVENT
DTSTART:20081209T133000Z
DTEND:20081209T150000Z
X-MICROSOFT-CDO-ALLDAYEVENT:FALSE
SUMMARY:Good Morning Schaumburg - Holiday Celebration at the IMPROV
DESCRIPTION:GOOD MORNING SCHAUMBURG Special Holiday Celebration at the Improv Come enjoy a Special Holiday Good Morning Schaumburg Breakfast at the Chicago Improv in Schaumburg! The morning will be filled with a celebration featuring highlights from 2008\, holiday cheer provided by the Improv\, and a visit from Santa!  Use this as an opportunity to entertain your customers\, business associates and other important people in your life. **LOCATION CHANGE! Good Morning Schaumburg will be taking a field trip to celebrate the holiday season in December! We will be back at Chandler's Banquets in January to start the 2009 year.Sponsored by: Woodfield Mall
X-ALT-DESC;FMTTYPE=text/html:<P align=center><FONT face=Verdana color=#ff0000 size=5><STRONG>GOOD MORNING SCHAUMBURG </STRONG></FONT></P><P align=center><FONT face=Verdana color=#ff0000 size=5><STRONG>Special Holiday Celebration at the Improv</STRONG></FONT></P><P align=center><FONT face=Verdana color=#008000 size=4><STRONG><SPAN style='FONT-SIZE: 10pt\; FONT-FAMILY: Arial'><STRONG><SPAN style='FONT-WEIGHT: normal\; FONT-SIZE: 12pt\; COLOR: green\; FONT-FAMILY: Arial\; mso-bidi-font-weight: bold\; mso-bidi-font-style: italic'>&nbsp\;</P><P style='mso-outline-level: 2'><FONT color=#339966><STRONG><SPAN style='FONT-FAMILY: Arial\; mso-font-kerning: 18.0pt'>Come enjoy a<I style='mso-bidi-font-style: normal'> </I></SPAN></STRONG><SPAN class=style211><B><I style='mso-bidi-font-style: normal'><SPAN style='FONT-FAMILY: Arial\; mso-font-kerning: 18.0pt'>Special Holiday Good Morning Schaumburg Breakfast</SPAN></I></B></SPAN><STRONG><SPAN style='FONT-FAMILY: Arial\; mso-font-kerning: 18.0pt'> at the <xml:namespace prefix = st1 ns = 'urn:schemas-microsoft-com:office:smarttags' /><st1:City w:st='on'>Chicago</st1:City> Improv in <st1:place w:st='on'>Schaumburg</st1:place>! The morning will be filled with a&nbsp\;celebration featuring highlights from 2008\, holiday cheer provided by the Improv\, and a&nbsp\;visit from Santa! <SPAN style='mso-spacerun: yes'>&nbsp\;</SPAN>Use this as an opportunity to entertain your customers\, business associates and other&nbsp\;important people in your life. </SPAN></STRONG><B><SPAN style='mso-font-kerning: 18.0pt'><xml:namespace prefix = o ns = 'urn:schemas-microsoft-com:office:office' /><o:p></o:p></SPAN></B></FONT></P><P class=MsoNormal style='MARGIN: 0in 0in 0pt'><FONT color=#339966><SPAN class=style231><SPAN style='FONT-FAMILY: Arial\; mso-font-kerning: 18.0pt'><STRONG>**LOCATION CHANGE! Good Morning <st1:place w:st='on'>Schaumburg</st1:place> will be taking a field trip to celebrate the holiday season in December! We will be back at <st1:place w:st='on'><st1:City w:st='on'>Chandler</st1:City></st1:place>'s Banquets in January to start the 2009 year.</STRONG></SPAN></SPAN><SPAN style='FONT-SIZE: 24pt\; mso-font-kerning: 18.0pt'><o:p></o:p></SPAN></FONT></P><P><FONT color=#339966></FONT></P></SPAN></STRONG></SPAN></STRONG></FONT><P align=center><FONT face=Verdana color=#008000><STRONG>Sponsored by: Woodfield Mall</STRONG></FONT></P><P align=center>&nbsp\;</P>
LOCATION:THE IMPROV IN SCHAUMURG
UID:e.9129.55
SEQUENCE:3
DTSTAMP:20260425T153553Z
URL:https://members.schaumburgbusiness.com/events/details/good-morning-schaumburg-holiday-celebration-at-the-improv-12-09-2008-55
END:VEVENT

END:VCALENDAR
