BEGIN:VCALENDAR
VERSION:2.0
PRODID:-//ChamberMaster//Event Calendar 2.0//EN
METHOD:PUBLISH
X-PUBLISHED-TTL:P3D
REFRESH-INTERVAL:P3D
CALSCALE:GREGORIAN
BEGIN:VEVENT
DTSTART:20131210T133000Z
DTEND:20131210T150000Z
X-MICROSOFT-CDO-ALLDAYEVENT:FALSE
SUMMARY:Good Morning Schaumburg - Annual Holiday Meeting
DESCRIPTION:Good Morning Schaumburg Holiday Edition\n\n		\n\n		Sponsored by Woodfield Shopping Center\n	\n		 \n	\n		Come out to enjoy a GREAT breakfast and AWESOME program at \n	\n		 \n	\n		Chicago Improv of Schaumburg \n\n		\n\n		With a quick show from Comedian Frank Townsend and special appearance by Santa\n	\n		\n\n		 \n	\n		 \n	\n		Please make your reservation to receive a Holiday Gift Bag\n\n		847.413.1010
X-ALT-DESC;FMTTYPE=text/html:<div style="font-family: Arial\;">\n	<p class="MsoNormal" style="margin: 0in 0in 6pt\; line-height: normal\; text-align: center\;">\n		<br />\n		<br />\n		<span style="font-size:14px\;"><span style="font-family:verdana\;"><b><span new="" times="">Good Morning Schaumburg Holiday Edition<br />\n		<br />\n		Sponsored by Woodfield Shopping Center</span></b></span></span></p>\n	<p class="MsoNormal" style="margin: 0in 0in 0pt\; line-height: normal\; text-align: center\;">\n		&nbsp\;</p>\n	<p class="MsoNormal" style="margin: 0in 0in 0pt\; line-height: normal\; text-align: center\;">\n		<span style="font-size:14px\;"><span style="font-family:verdana\;"><span new="" times=""><em>Come out to enjoy a GREAT breakfast and AWESOME program at </em></span></span></span></p>\n	<p class="MsoNormal" style="margin: 0in 0in 0pt\; line-height: normal\; text-align: center\;">\n		&nbsp\;</p>\n	<p class="MsoNormal" style="margin: 0in 0in 0pt\; line-height: normal\; text-align: center\;">\n		<span style="font-size:14px\;"><span style="font-family:verdana\;"><span new="" times=""><em>Chicago Improv of Schaumburg&nbsp\;<br />\n		<br />\n		With a quick show from Comedian Frank Townsend and special appearance by Santa</em></span></span></span></p>\n	<p class="MsoNormal" style="margin: 0in 0in 0pt\; line-height: normal\; text-align: center\;">\n		<br />\n		&nbsp\;</p>\n	<p class="MsoNormal" style="margin: 0in 0in 0pt\; line-height: normal\; text-align: center\;">\n		<span style="font-family: verdana\; font-size: 14px\;">&nbsp\;</span></p>\n	<p class="MsoNormal" style="margin: 0in 0in 0pt\; line-height: normal\; text-align: center\;">\n		<span style="font-size:14px\;"><span style="font-family:verdana\;"><span new="" times="">Please make your reservation to receive a Holiday Gift Bag<br />\n		<span>847.413.1010&nbsp\;</span></span><span new="" times="">&nbsp\;</span></span></span></p>\n</div>\n<br />\n
LOCATION:Chicago Improv of Schaumburg
UID:e.9129.422
SEQUENCE:3
DTSTAMP:20260420T031746Z
URL:https://members.schaumburgbusiness.com/events/details/good-morning-schaumburg-annual-holiday-meeting-12-10-2013-422
END:VEVENT

END:VCALENDAR
