BEGIN:VCALENDAR
VERSION:2.0
PRODID:-//ChamberMaster//Event Calendar 2.0//EN
METHOD:PUBLISH
X-PUBLISHED-TTL:P3D
REFRESH-INTERVAL:P3D
CALSCALE:GREGORIAN
BEGIN:VEVENT
DTSTART:20130813T123000Z
DTEND:20130813T140000Z
X-MICROSOFT-CDO-ALLDAYEVENT:FALSE
SUMMARY:Good Morning Schaumburg
DESCRIPTION:Please join us for a very specialGood Morning Schaumburg  Featuring a Women's CEO Panel with  Davetta Collins\, Dunamis Woman\, Inc.Kathy Miller\, Total Event ResourcesJacqueline Camacho\, JJR MarketingLauren Young\, Freshly Baked Communications  Reserve your seats today! 847.413.1010
X-ALT-DESC;FMTTYPE=text/html:<DIV style='FONT-FAMILY: Arial'><SPAN style='FONT-SIZE: 14pt\; FONT-FAMILY: 'Arial'\,'sans-serif'\; COLOR: #002060\; mso-fareast-font-family: 'Times New Roman''><P class=MsoNormal style='MARGIN: 0in 0in 0pt' align=center><SPAN style='FONT-SIZE: 12pt\; FONT-FAMILY: 'Palatino Linotype'\,'serif''><FONT color=#000000><FONT face=Arial><FONT size=+0><STRONG>Please join us for a very special<xml:namespace prefix = 'o' ns = 'urn:schemas-microsoft-com:office:office' /><o:p></o:p></STRONG></FONT></FONT></FONT></SPAN></P><P class=MsoNormal style='MARGIN: 0in 0in 0pt' align=center><SPAN style='FONT-SIZE: 14pt\; FONT-FAMILY: 'Palatino Linotype'\,'serif''><FONT color=#000000><FONT face=Arial><FONT size=+0><STRONG>Good Morning Schaumburg<o:p></o:p></STRONG></FONT></FONT></FONT></SPAN></P><P class=MsoNormal style='MARGIN: 0in 0in 0pt' align=center><SPAN style='FONT-SIZE: 14pt\; FONT-FAMILY: 'Palatino Linotype'\,'serif''><o:p><FONT color=#000000 face=Arial><STRONG>&nbsp\;</STRONG></FONT></o:p></SPAN></P><P class=MsoNormal style='MARGIN: 0in 0in 0pt' align=center><SPAN style='FONT-SIZE: 12pt\; FONT-FAMILY: 'Palatino Linotype'\,'serif''><o:p><FONT color=#000000 face=Arial><STRONG>&nbsp\;Featuring a Women's CEO Panel with </STRONG></FONT></o:p></SPAN></P><P class=MsoNormal style='MARGIN: 0in 0in 0pt' align=center><SPAN style='FONT-SIZE: 12pt\; FONT-FAMILY: 'Palatino Linotype'\,'serif''><o:p><STRONG><FONT color=#000000 face=Arial></FONT></STRONG></o:p></SPAN>&nbsp\;</P><P class=MsoNormal style='MARGIN: 0in 0in 0pt' align=center><SPAN style='FONT-SIZE: 12pt\; FONT-FAMILY: 'Palatino Linotype'\,'serif''><o:p><STRONG><FONT color=#000000 face=Arial>Davetta&nbsp\;Collins\, Dunamis Woman\, Inc.</FONT></STRONG></o:p></SPAN></P><P class=MsoNormal style='MARGIN: 0in 0in 0pt' align=center><SPAN style='FONT-SIZE: 12pt\; FONT-FAMILY: 'Palatino Linotype'\,'serif''><o:p><STRONG><FONT color=#000000 face=Arial>Kathy Miller\, Total Event Resources</FONT></STRONG></o:p></SPAN></P><P class=MsoNormal style='MARGIN: 0in 0in 0pt' align=center><SPAN style='FONT-SIZE: 12pt\; FONT-FAMILY: 'Palatino Linotype'\,'serif''><o:p><STRONG><FONT color=#000000 face=Arial>Jacqueline Camacho\, JJR Marketing</FONT></STRONG></o:p></SPAN></P><P class=MsoNormal style='MARGIN: 0in 0in 0pt' align=center><SPAN style='FONT-SIZE: 12pt\; FONT-FAMILY: 'Palatino Linotype'\,'serif''><o:p><STRONG><FONT color=#000000 face=Arial>Lauren Young\, Freshly Baked Communications</FONT></STRONG></o:p></SPAN></P><P class=MsoNormal style='MARGIN: 0in 0in 0pt' align=center><I><SPAN style='FONT-SIZE: 14pt\; FONT-FAMILY: 'Palatino Linotype'\,'serif''><FONT color=#000000><FONT face=Arial><FONT size=+0><STRONG></STRONG></FONT></FONT></FONT></SPAN></I></P><P class=MsoNormal style='MARGIN: 0in 0in 0pt' align=center><SPAN style='FONT-SIZE: 12pt\; FONT-FAMILY: 'Palatino Linotype'\,'serif''><o:p><FONT color=#000000 face=Arial><STRONG></STRONG></FONT></o:p></SPAN>&nbsp\;<SPAN style='FONT-FAMILY: 'Palatino Linotype'\,'serif''><o:p><FONT color=#000000 size=3 face=Arial><STRONG>&nbsp\;</STRONG></FONT></o:p></SPAN></P><P class=MsoNormal style='MARGIN: 0in 0in 0pt' align=center><SPAN style='FONT-FAMILY: 'Palatino Linotype'\,'serif''><FONT size=3><FONT color=#000000><FONT face=Arial><FONT size=+0><STRONG>Reserve your seats today!<o:p></o:p></STRONG></FONT></FONT></FONT></FONT></SPAN></P><P class=MsoNormal style='MARGIN: 0in 0in 0pt' align=center><SPAN style='FONT-SIZE: 12pt\; FONT-FAMILY: 'Palatino Linotype'\,'serif''><o:p><FONT color=#000000 face=Arial><STRONG>&nbsp\;</STRONG></FONT></o:p></SPAN></P><P class=MsoNormal style='MARGIN: 0in 0in 0pt' align=center><SPAN style='FONT-SIZE: 12pt\; FONT-FAMILY: 'Palatino Linotype'\,'serif''><FONT color=#000000><FONT face=Arial><FONT size=+0><STRONG>847.413.1010<o:p></o:p></STRONG></FONT></FONT></FONT></SPAN></P><P class=MsoNormal style='TEXT-ALIGN: center\; MARGIN: 0in 0in 6pt\; LINE-HEIGHT: normal' align=center></SPAN></P></DIV>
LOCATION:Chandler's Chophouse & Banquets
UID:e.9129.395
SEQUENCE:3
DTSTAMP:20260422T100506Z
URL:https://members.schaumburgbusiness.com/events/details/good-morning-schaumburg-08-13-2013-395
END:VEVENT

END:VCALENDAR
