BEGIN:VCALENDAR
VERSION:2.0
PRODID:-//ChamberMaster//Event Calendar 2.0//EN
METHOD:PUBLISH
X-PUBLISHED-TTL:P3D
REFRESH-INTERVAL:P3D
CALSCALE:GREGORIAN
BEGIN:VEVENT
DTSTART:20120410T123000Z
DTEND:20120410T140000Z
X-MICROSOFT-CDO-ALLDAYEVENT:FALSE
SUMMARY:Good Morning Schaumburg
DESCRIPTION:Good Morning Schaumburg Come out to enjoy a GREAT breakfast and AWESOME program at  Schaumburg Boomers Stadium  CALL JAMIE @ 847.413.1010 EXT. 13TO BUY 10 AND GET TWO FREE! Please make your reservation early and contact the SBA offices at 847.413.1010 if you would like to host a display table at the event.  Seating is LIMITED and registration is REQUIRED for the event.
X-ALT-DESC;FMTTYPE=text/html:<DIV style='FONT-FAMILY: Arial'><P style='TEXT-ALIGN: center\; LINE-HEIGHT: normal\; MARGIN: 0in 0in 6pt' class=MsoNormal align=center><B><SPAN style='FONT-FAMILY: 'Arial'\,'sans-serif'\; COLOR: #002060\; FONT-SIZE: 14pt\; mso-fareast-font-family: 'Times New Roman''>Good Morning Schaumburg<xml:namespace prefix = o ns = 'urn:schemas-microsoft-com:office:office' /><o:p></o:p></SPAN></B></P><P style='TEXT-ALIGN: center\; LINE-HEIGHT: normal\; MARGIN: 0in 0in 0pt' class=MsoNormal align=center><SPAN style='FONT-FAMILY: 'Arial'\,'sans-serif'\; COLOR: #002060\; FONT-SIZE: 14pt\; mso-fareast-font-family: 'Times New Roman''><EM><FONT size=5></FONT></EM></SPAN>&nbsp\;</P><P style='TEXT-ALIGN: center\; LINE-HEIGHT: normal\; MARGIN: 0in 0in 0pt' class=MsoNormal align=center><SPAN style='FONT-FAMILY: 'Arial'\,'sans-serif'\; COLOR: #002060\; FONT-SIZE: 14pt\; mso-fareast-font-family: 'Times New Roman''><EM><FONT size=5>Come out to enjoy a GREAT breakfast and AWESOME program at </FONT></EM></SPAN></P><P style='TEXT-ALIGN: center\; LINE-HEIGHT: normal\; MARGIN: 0in 0in 0pt' class=MsoNormal align=center><SPAN style='FONT-FAMILY: 'Arial'\,'sans-serif'\; COLOR: #002060\; FONT-SIZE: 14pt\; mso-fareast-font-family: 'Times New Roman''><EM><FONT size=5></FONT></EM></SPAN>&nbsp\;</P><P style='TEXT-ALIGN: center\; LINE-HEIGHT: normal\; MARGIN: 0in 0in 0pt' class=MsoNormal align=center><SPAN style='FONT-FAMILY: 'Arial'\,'sans-serif'\; COLOR: #002060\; FONT-SIZE: 14pt\; mso-fareast-font-family: 'Times New Roman''><EM><FONT size=5>Schaumburg Boomers Stadium</FONT></EM></SPAN></P><P style='TEXT-ALIGN: center\; LINE-HEIGHT: normal\; MARGIN: 0in 0in 0pt' class=MsoNormal align=center><SPAN style='FONT-FAMILY: 'Arial'\,'sans-serif'\; COLOR: #002060\; FONT-SIZE: 14pt\; mso-fareast-font-family: 'Times New Roman''><EM><FONT size=5></FONT></EM></SPAN>&nbsp\;</P><P style='TEXT-ALIGN: center\; LINE-HEIGHT: normal\; MARGIN: 0in 0in 0pt' class=MsoNormal align=center><SPAN style='FONT-FAMILY: 'Arial'\,'sans-serif'\; COLOR: #002060\; FONT-SIZE: 14pt\; mso-fareast-font-family: 'Times New Roman''><EM><FONT size=5></FONT></EM></SPAN>&nbsp\;</P><P style='TEXT-ALIGN: center\; LINE-HEIGHT: normal\; MARGIN: 0in 0in 0pt' class=MsoNormal align=center><SPAN style='FONT-FAMILY: 'Arial'\,'sans-serif'\; COLOR: #002060\; FONT-SIZE: 14pt\; mso-fareast-font-family: 'Times New Roman''><FONT size=5><STRONG>CALL&nbsp\;JAMIE @ 847.413.1010 EXT. 13</STRONG></FONT></SPAN></P><P style='TEXT-ALIGN: center\; LINE-HEIGHT: normal\; MARGIN: 0in 0in 0pt' class=MsoNormal align=center><SPAN style='FONT-FAMILY: 'Arial'\,'sans-serif'\; COLOR: #002060\; FONT-SIZE: 14pt\; mso-fareast-font-family: 'Times New Roman''></SPAN><SPAN style='FONT-FAMILY: 'Arial'\,'sans-serif'\; COLOR: #002060\; FONT-SIZE: 14pt\; mso-fareast-font-family: 'Times New Roman''><FONT size=5><STRONG>TO <U><FONT color=#ff0000>BUY&nbsp\;10 AND GET&nbsp\;TWO FREE</FONT></U>!</STRONG></FONT></SPAN></P><P style='TEXT-ALIGN: center\; LINE-HEIGHT: normal\; MARGIN: 0in 0in 0pt' class=MsoNormal align=center><SPAN style='FONT-FAMILY: 'Arial'\,'sans-serif'\; COLOR: #002060\; FONT-SIZE: 14pt\; mso-fareast-font-family: 'Times New Roman''></SPAN><SPAN style='FONT-FAMILY: 'Arial'\,'sans-serif'\; COLOR: #002060\; FONT-SIZE: 14pt\; mso-fareast-font-family: 'Times New Roman''><o:p>&nbsp\;</o:p></SPAN></P><P style='TEXT-ALIGN: center\; LINE-HEIGHT: normal\; MARGIN: 0in 0in 0pt' class=MsoNormal align=center><SPAN style='FONT-FAMILY: 'Arial'\,'sans-serif'\; COLOR: #002060\; FONT-SIZE: 14pt\; mso-fareast-font-family: 'Times New Roman''>Please make your reservation early and contact the SBA offices at <SPAN style='mso-bidi-font-weight: bold'>847.413.1010 </SPAN>if you would like to host a display table at the event. </SPAN></P><P style='TEXT-ALIGN: center\; LINE-HEIGHT: normal\; MARGIN: 0in 0in 0pt' class=MsoNormal align=center><SPAN style='FONT-FAMILY: 'Arial'\,'sans-serif'\; COLOR: #002060\; FONT-SIZE: 14pt\; mso-fareast-font-family: 'Times New Roman''></SPAN>&nbsp\;</P><P style='TEXT-ALIGN: center\; LINE-HEIGHT: normal\; MARGIN: 0in 0in 0pt' class=MsoNormal align=center><SPAN style='FONT-FAMILY: 'Arial'\,'sans-serif'\; COLOR: #002060\; FONT-SIZE: 14pt\; mso-fareast-font-family: 'Times New Roman''>Seating is <STRONG><EM><U>LIMITED </U></EM></STRONG>and registration is <STRONG><U><EM><FONT color=#ff0000>REQUIRED</FONT></EM></U></STRONG> for the event.</SPAN></P><P style='TEXT-ALIGN: center\; LINE-HEIGHT: normal\; MARGIN: 0in 0in 0pt' class=MsoNormal align=center><SPAN style='FONT-FAMILY: 'Arial'\,'sans-serif'\; COLOR: #002060\; FONT-SIZE: 14pt\; mso-fareast-font-family: 'Times New Roman''><o:p>&nbsp\;</o:p></SPAN></P></DIV>
LOCATION:Schaumburg Boomers
UID:e.9129.296
SEQUENCE:3
DTSTAMP:20260423T083431Z
URL:https://members.schaumburgbusiness.com/events/details/good-morning-schaumburg-04-10-2012-296
END:VEVENT

END:VCALENDAR
