BEGIN:VCALENDAR
VERSION:2.0
PRODID:-//ChamberMaster//Event Calendar 2.0//EN
METHOD:PUBLISH
X-PUBLISHED-TTL:P3D
REFRESH-INTERVAL:P3D
CALSCALE:GREGORIAN
BEGIN:VEVENT
DTSTART:20120313T123000Z
DTEND:20120313T140000Z
X-MICROSOFT-CDO-ALLDAYEVENT:FALSE
SUMMARY:Good Morning Schaumburg
DESCRIPTION:Join us at a very special Good Morning SchaumburgFeaturing Guest SpeakerJeff weberAuthor and Entrepreneurwww.jeffweberventures.com“From Idea to Exit: The Entrepreneurial Journey” Includes signing of Jeff Weber’s BookFrom Idea To ExitWinner of The USA Best Books 2011 Awardfor Entrepreneurism and Small Business. Tuesday\, March 13\,2012Chandler’s Chophouse401 N. Roselle RoadSchaumburg\, IL 60194847.885.9009Call 847.413.1010 to reserve your seats TODAY!  Please make your reservations early and contact Jamie at 847.413.1010 if you would like to host a display table at the event.
X-ALT-DESC;FMTTYPE=text/html:<DIV style='FONT-FAMILY: Arial'><B><SPAN style='FONT-FAMILY: 'Arial'\,'sans-serif'\; COLOR: #002060\; FONT-SIZE: 14pt\; mso-fareast-font-family: 'Times New Roman''><FONT color=#3b6386 size=7 face=Mercury-TextG1RomanSC><FONT color=#3b6386 size=7 face=Mercury-TextG1RomanSC><FONT color=#3b6386 size=4 face=Mercury-TextG1RomanSC><P align=center>Join us at a very special Good Morning Schaumburg</P></FONT></FONT></FONT><FONT color=#3b6386 size=4 face=Verlag-Light><FONT color=#3b6386 size=4 face=Verlag-Light><FONT color=#3b6386 size=4 face=Verlag-Light><P align=center>Featuring Guest Speaker</P></FONT></FONT></FONT><FONT color=#922d1d size=6 face=Mercury-TextG1RomanSC><FONT color=#922d1d size=6 face=Mercury-TextG1RomanSC><FONT color=#922d1d size=6 face=Mercury-TextG1RomanSC><P align=center>Jeff weber</P></FONT></FONT></FONT><FONT color=#3b6386 face=MyriadPro-It><FONT color=#3b6386 face=MyriadPro-It><P align=center>Author and Entrepreneur</P></FONT></FONT><FONT color=#3b6386 face=MyriadPro-Regular><FONT color=#3b6386 face=MyriadPro-Regular><P align=center><A href='http://www.jeffweberventures.com'>www.jeff</FONT></FONT><FONT color=#3b6386 face=MyriadPro-Regular><FONT color=#3b6386 face=MyriadPro-Regular>weberventures.com</A></P></FONT></FONT><FONT color=#922d1d size=6 face=Mercury-TextG1RomanSC><FONT color=#922d1d size=6 face=Mercury-TextG1RomanSC><FONT color=#922d1d size=6 face=Mercury-TextG1RomanSC><P align=center>“From Idea to Exit: The Entrepreneurial Journey”</P></FONT></FONT></FONT><FONT color=#3b6386 size=7 face=Mercury-TextG1RomanSC><FONT color=#3b6386 size=7 face=Mercury-TextG1RomanSC><FONT color=#3b6386 size=7 face=Mercury-TextG1RomanSC><P align=center><FONT size=3></FONT>&nbsp\;</P><FONT size=3><P align=center><FONT size=4>Includes </FONT><FONT color=#922d1d face=Verlag-Light><FONT color=#922d1d face=Verlag-Light><FONT color=#922d1d face=Verlag-Light><FONT size=4>signing of Jeff Weber’s Book</FONT></P></FONT></FONT></FONT><FONT color=#922d1d face=MyriadPro-It><FONT color=#922d1d face=MyriadPro-It><P align=center>From Idea To Exit</P><P align=center><FONT size=4>Winner <FONT color=#3b6386 face=Mercury-TextG1RomanSC><FONT color=#3b6386 face=Mercury-TextG1RomanSC><FONT color=#3b6386 face=Mercury-TextG1RomanSC>of The </FONT></FONT></FONT><FONT color=#922d1d face=Mercury-TextG1RomanSC><FONT color=#922d1d face=Mercury-TextG1RomanSC><FONT color=#922d1d face=Mercury-TextG1RomanSC>USA Best Books 2011 Award</P></FONT></FONT></FONT></FONT><FONT color=#3b6386 face=Mercury-TextG1RomanSC><FONT color=#3b6386 face=Mercury-TextG1RomanSC><FONT color=#3b6386 size=4 face=Mercury-TextG1RomanSC><P align=center>for Entrepreneurism and Small Business.</P></FONT></FONT></FONT><P align=center>&nbsp\;</P></FONT></FONT></FONT><P align=center><FONT size=4>Tuesday\, March 13\,2012</FONT></FONT></FONT></FONT><FONT color=#922d1d face=Mercury-TextG1RomanSC><FONT color=#922d1d face=Mercury-TextG1RomanSC><FONT color=#922d1d face=Mercury-TextG1RomanSC></P></FONT></FONT></FONT><FONT color=#3b6386 face=Verlag-Light><FONT color=#3b6386 face=Verlag-Light><FONT color=#3b6386 face=Verlag-Light><P align=center><FONT size=4>Chandler’s Chophouse</FONT></P><P align=center><FONT size=4>401 N. Roselle Road</FONT></P><P align=center><FONT size=4>Schaumburg\, IL 60194</FONT></P><P align=center><FONT size=4>847.885.9009</FONT></FONT></FONT></FONT><FONT color=#922d1d face=MyriadPro-It><FONT color=#922d1d face=MyriadPro-It></P></FONT></FONT><FONT color=#3b6386 size=4 face=Verlag-Light><FONT color=#3b6386 size=4 face=Verlag-Light><FONT color=#3b6386 size=4 face=Verlag-Light><P align=center>Call <FONT color=#800000>847.413.1010&nbsp\;</FONT>to reserve your seats TODAY!</P></FONT></FONT></FONT><FONT color=#922d1d size=4 face=Verlag-Light><FONT color=#922d1d size=4 face=Verlag-Light><FONT color=#922d1d size=4 face=Verlag-Light><P align=center></FONT></FONT></FONT><FONT color=#922d1d size=5 face=Mercury-TextG1RomanSC><FONT color=#922d1d size=5 face=Mercury-TextG1RomanSC><FONT color=#922d1d size=5 face=Mercury-TextG1RomanSC></FONT></FONT></FONT><FONT color=#3b6386 size=5 face=Mercury-TextG1RomanSC><FONT color=#3b6386 size=5 face=Mercury-TextG1RomanSC><FONT color=#3b6386 size=5 face=Mercury-TextG1RomanSC>&nbsp\;</P><P align=center>&nbsp\;</P><P align=center>Please make your reservations early and contact Jamie at 847.413.1010 if you would like to host a display table at the event.</P></FONT></FONT></FONT></SPAN></B><P style='TEXT-ALIGN: center\; LINE-HEIGHT: normal\; MARGIN: 0in 0in 0pt' class=MsoNormal align=center><SPAN style='FONT-FAMILY: 'Arial'\,'sans-serif'\; COLOR: #002060\; FONT-SIZE: 14pt\; mso-fareast-font-family: 'Times New Roman''></SPAN>&nbsp\;</P><P style='TEXT-ALIGN: center\; LINE-HEIGHT: normal\; MARGIN: 0in 0in 0pt' class=MsoNormal align=center><SPAN style='FONT-FAMILY: 'Arial'\,'sans-serif'\; COLOR: #002060\; FONT-SIZE: 14pt\; mso-fareast-font-family: 'Times New Roman''><xml:namespace prefix = o ns = 'urn:schemas-microsoft-com:office:office' /><o:p>&nbsp\;</o:p></SPAN></P></DIV>
LOCATION:Chandler's Chophouse & Banquets
UID:e.9129.306
SEQUENCE:3
DTSTAMP:20260423T100113Z
URL:https://members.schaumburgbusiness.com/events/details/good-morning-schaumburg-03-13-2012-306
END:VEVENT

END:VCALENDAR
