BEGIN:VCALENDAR
VERSION:2.0
PRODID:-//ChamberMaster//Event Calendar 2.0//EN
METHOD:PUBLISH
X-PUBLISHED-TTL:P3D
REFRESH-INTERVAL:P3D
CALSCALE:GREGORIAN
BEGIN:VEVENT
DTSTART:20140114T133000Z
DTEND:20140114T150000Z
X-MICROSOFT-CDO-ALLDAYEVENT:FALSE
SUMMARY:Good Morning Schaumburg
DESCRIPTION:Join us for a great breakfast\, networking and presentation at our monthly Good Morning Schaumburg.
X-ALT-DESC;FMTTYPE=text/html:Join us for a great breakfast\, networking and presentation at our monthly Good Morning Schaumburg. &nbsp\;
LOCATION:Chandler's Chophouse 401 N. Roselle Road Schaumburg\, IL 60194
UID:e.9129.907
SEQUENCE:3
DTSTAMP:20260420T013317Z
URL:https://members.schaumburgbusiness.com/events/details/good-morning-schaumburg-01-14-2014-907
END:VEVENT

END:VCALENDAR
