BEGIN:VCALENDAR
VERSION:2.0
PRODID:-//ChamberMaster//Event Calendar 2.0//EN
METHOD:PUBLISH
X-PUBLISHED-TTL:P3D
REFRESH-INTERVAL:P3D
CALSCALE:GREGORIAN
BEGIN:VEVENT
DTSTART:20131106T133000Z
DTEND:20131106T144500Z
X-MICROSOFT-CDO-ALLDAYEVENT:FALSE
SUMMARY:First Wednesday Networking Group
DESCRIPTION:The SBA has six active networking groups.  First Wednesday's is geared to small to medium sized business owners.  The November meeting is open to the public with a $10 fee which is to paid at the event.  \n\n\n\nMini presentations will be made on the following topics: \n\n                          Budgeting\n\n                          Sales & Marketing\n\n                          Risk Management\n\n                          Taxes\n\n                          Key Performance Indicators\n\n\n\nRSVP directly to First Wednesday's Chairman\, Michael Ericksen at mericksen@me-pc.com
X-ALT-DESC;FMTTYPE=text/html:The SBA has six active networking groups. &nbsp\;First Wednesday&#39\;s is geared to small to medium sized business owners. &nbsp\;The November meeting is open to the public with a $10 fee which is to paid at the event. &nbsp\;<br />\n<br />\nMini presentations will be made on the following topics:&nbsp\;<br />\n<span style="color:#1f497d\;">&nbsp\; &nbsp\; &nbsp\; &nbsp\; &nbsp\; &nbsp\; &nbsp\; &nbsp\; &nbsp\;</span> &nbsp\; &nbsp\; &nbsp\; &nbsp\; Budgeting<br />\n&nbsp\; &nbsp\; &nbsp\; &nbsp\; &nbsp\; &nbsp\; &nbsp\; &nbsp\; &nbsp\; &nbsp\; &nbsp\; &nbsp\; &nbsp\; Sales &amp\; Marketing<br />\n&nbsp\; &nbsp\; &nbsp\; &nbsp\; &nbsp\; &nbsp\; &nbsp\; &nbsp\; &nbsp\; &nbsp\; &nbsp\; &nbsp\; &nbsp\; Risk Management<br />\n&nbsp\; &nbsp\; &nbsp\; &nbsp\; &nbsp\; &nbsp\; &nbsp\; &nbsp\; &nbsp\; &nbsp\; &nbsp\; &nbsp\; &nbsp\; Taxes<br />\n&nbsp\; &nbsp\; &nbsp\; &nbsp\; &nbsp\; &nbsp\; &nbsp\; &nbsp\; &nbsp\; &nbsp\; &nbsp\; &nbsp\; &nbsp\; Key Performance Indicators<br />\n<br />\nRSVP directly to First Wednesday&#39\;s Chairman\, Michael Ericksen at&nbsp\;<a href="mailto:mericksen@me-pc.com ?subject=First%20Wednesday%20rsvp">mericksen@me-pc.com&nbsp\;</a>
LOCATION:Schaumburg Corporate Center 1501 E. Woodfield Rd. Conference Room C
UID:e.9129.888
SEQUENCE:3
DTSTAMP:20260420T063601Z
URL:https://members.schaumburgbusiness.com/events/details/first-wednesday-networking-group-11-06-2013-888
END:VEVENT

END:VCALENDAR
