BEGIN:VCALENDAR
VERSION:2.0
PRODID:-//ChamberMaster//Event Calendar 2.0//EN
METHOD:PUBLISH
X-PUBLISHED-TTL:P3D
REFRESH-INTERVAL:P3D
CALSCALE:GREGORIAN
BEGIN:VEVENT
DTSTART:20140306T170000Z
DTEND:20140306T193000Z
X-MICROSOFT-CDO-ALLDAYEVENT:FALSE
SUMMARY:Energy Efficiency & Management
DESCRIPTION:Join the Nicor Gas Energy Efficiency Program and ComEd Smart Ideas to learn how efficient management of your lighting\, heating and cooling systems can produce real savings.  Discover strategies and tactics available to small and mid-size companies to control and reduce their energy costs.\n\n\n\nView full flyer here.
X-ALT-DESC;FMTTYPE=text/html:Join the Nicor Gas Energy Efficiency Program and ComEd Smart Ideas to learn how efficient management of your lighting\, heating and cooling systems can produce real savings.&nbsp\; Discover strategies and tactics available to small and mid-size companies to control and reduce their energy costs.<br />\n<br />\nView full flyer <a href="http://cloud.chambermaster.com/userfiles/UserFiles/chambers/9129/File/NewsmakerForum030614.jpg">here</a>.<br type="_moz" />\n
LOCATION:Medinah Banquets 550 Shriners Drive - Addison
UID:e.9129.1620
SEQUENCE:3
DTSTAMP:20260419T235334Z
URL:https://members.schaumburgbusiness.com/events/details/energy-efficiency-management-03-06-2014-1620
END:VEVENT

END:VCALENDAR
