BEGIN:VCALENDAR
VERSION:2.0
PRODID:-//ChamberMaster//Event Calendar 2.0//EN
METHOD:PUBLISH
X-PUBLISHED-TTL:P3D
REFRESH-INTERVAL:P3D
CALSCALE:GREGORIAN
BEGIN:VEVENT
DTSTART:20260513T200000Z
DTEND:20260513T223000Z
X-MICROSOFT-CDO-ALLDAYEVENT:FALSE
SUMMARY:Encore Village Invites You to Join in Our Annual Open House!
DESCRIPTION:We'd love to invite you to a special Open House at Encore Village on May 13.\n\n \n\nThis is a wonderful opportunity to explore our community\, meet our team\, and experience firsthand what makes life here so unique. Whether you're just beginning to explore or ready to take the next step\, we're here to make it easy\, welcoming\, and informative.
X-ALT-DESC;FMTTYPE=text/html:<p>We&rsquo\;d love to invite you to a special Open House at Encore Village on May 13.</p>\n\n<p>&nbsp\;</p>\n\n<p>This is a wonderful opportunity to explore our community\, meet our team\, and experience firsthand what makes life here so unique. Whether you&rsquo\;re just beginning to explore or ready to take the next step\, we&rsquo\;re here to make it easy\, welcoming\, and informative.</p>\n\n<p>&nbsp\;</p>\n
LOCATION:Encore Village Schaumburg 350 W. Schaumburg Rd. Schaumburg\, IL. 60194
UID:e.9129.10454
SEQUENCE:3
DTSTAMP:20260421T230638Z
URL:https://members.schaumburgbusiness.com/events/details/encore-village-invites-you-to-join-in-our-annual-open-house-10454
END:VEVENT

END:VCALENDAR
