BEGIN:VCALENDAR
VERSION:2.0
PRODID:-//ChamberMaster//Event Calendar 2.0//EN
METHOD:PUBLISH
X-PUBLISHED-TTL:P3D
REFRESH-INTERVAL:P3D
CALSCALE:GREGORIAN
BEGIN:VEVENT
DTSTART:20110804T123000Z
DTEND:20110804T140000Z
X-MICROSOFT-CDO-ALLDAYEVENT:FALSE
SUMMARY:'Doing Business in Indonesia' International Trade Special Event
DESCRIPTION:Doing Business in Indonesia' International Trade Special Event - Thursday\, August 4th World Trade Center Chicago-Illinois (www.WTCIL.org) is pleased to invite you to learn more about international trade with The Republic of Indonesia. The World Trade Center in collaboration with The Indonesian Trade Promotion Center and the Consulate General of The Republic of Indonesia as well as the Village of Schaumburg\, the Schaumburg Business Association and the Schaumburg Center for Economic Development cordially invite you to attend a FREE trade promotion event:'Doing Business in Indonesia' Thursday August 4th 7:30 am - 9:00am  Free Continental BreakfastRabine Group • 900 National Parkway Suite 260 • Schaumburg\, IL 60173REGISTER NOW\, call 773-313-3735.
X-ALT-DESC;FMTTYPE=text/html:<DIV style='FONT-FAMILY: Arial' align=center><SPAN style='FONT-FAMILY: 'Palatino Linotype'\,'serif'\; FONT-SIZE: 11pt\; mso-fareast-font-family: Calibri\; mso-fareast-theme-font: minor-latin\; mso-bidi-font-family: 'Times New Roman'\; mso-ansi-language: EN-US\; mso-fareast-language: EN-US\; mso-bidi-language: AR-SA'><STRONG><FONT face=Arial><FONT size=4>Doing Business in Indonesia' International Trade Special Event - Thursday\, August 4<SUP>th</SUP></FONT></FONT></STRONG></DIV><P style='LINE-HEIGHT: 24pt\; MARGIN: 0in 0in 28pt\; FONT-FAMILY: Arial\; TEXT-AUTOSPACE: ' class=MsoNormal align=center><SPAN style='FONT-FAMILY: 'Palatino Linotype'\,'serif'\; FONT-SIZE: 11pt'><FONT size=4></FONT></SPAN>&nbsp\;</P><P style='LINE-HEIGHT: 24pt\; MARGIN: 0in 0in 28pt\; FONT-FAMILY: Arial\; TEXT-AUTOSPACE: ' class=MsoNormal align=center><SPAN style='FONT-FAMILY: 'Palatino Linotype'\,'serif'\; FONT-SIZE: 11pt'><FONT size=4 face=Arial>World Trade Center Chicago-Illinois (</FONT><A href='http://www.wtcil.org/'><SPAN style='COLOR: windowtext\; TEXT-DECORATION: none\; text-underline: none'><FONT size=4 face=Arial>www.WTCIL.org</FONT></SPAN></A><FONT size=4 face=Arial>) is pleased to invite you to learn more about international trade with The Republic of Indonesia. The World Trade Center in collaboration with The Indonesian Trade Promotion Center and the Consulate General of The Republic of Indonesia as well as the Village of Schaumburg\, the Schaumburg Business Association and the Schaumburg Center for Economic Development cordially invite you to attend a FREE trade promotion event:</FONT></SPAN></P><SPAN style='FONT-FAMILY: 'Palatino Linotype'\,'serif'\; FONT-SIZE: 11pt'><P style='LINE-HEIGHT: 24pt\; MARGIN: 0in 0in 28pt\; TEXT-AUTOSPACE: ' class=MsoNormal align=center><FONT face=Arial><FONT size=4><SPAN style='FONT-FAMILY: 'Palatino Linotype'\,'serif'\; FONT-SIZE: 11pt'>'Doing Business in Indonesia' </SPAN><SPAN style='FONT-FAMILY: 'Palatino Linotype'\,'serif'\; FONT-SIZE: 11pt'>Thursday August 4th </SPAN><SPAN style='FONT-FAMILY: 'Palatino Linotype'\,'serif'\; FONT-SIZE: 11pt'>7:30 am - 9:00am &nbsp\;</SPAN><SPAN style='FONT-FAMILY: 'Palatino Linotype'\,'serif'\; FONT-SIZE: 11pt'>Free Continental Breakfast<xml:namespace prefix = o ns = 'urn:schemas-microsoft-com:office:office' /><o:p></o:p></SPAN></FONT></FONT></P></SPAN><P style='LINE-HEIGHT: 24pt\; MARGIN: 0in 0in 28pt\; FONT-FAMILY: Arial\; TEXT-AUTOSPACE: ' class=MsoNormal align=center><FONT face=Arial><FONT size=4><SPAN style='FONT-FAMILY: 'Palatino Linotype'\,'serif'\; FONT-SIZE: 11pt'>Rabine Group • </SPAN><SPAN style='FONT-FAMILY: 'Palatino Linotype'\,'serif'\; FONT-SIZE: 11pt'>900 National Parkway </SPAN><SPAN style='FONT-FAMILY: 'Palatino Linotype'\,'serif'\; FONT-SIZE: 11pt'>Suite 260 • </SPAN><SPAN style='FONT-FAMILY: 'Palatino Linotype'\,'serif'\; FONT-SIZE: 11pt'>Schaumburg\, IL 60173<o:p></o:p></SPAN></FONT></FONT></P><P style='MARGIN: 0in 0in 0pt\; FONT-FAMILY: Arial' class=MsoNormal align=center><SPAN style='FONT-FAMILY: 'Palatino Linotype'\,'serif'\; FONT-SIZE: 11pt'><FONT face=Arial><FONT size=4>REGISTER NOW\, call&nbsp\;773-313-3735.<o:p></o:p></FONT></FONT></SPAN></P></SPAN>
LOCATION:Rabine Group
UID:e.9129.287
SEQUENCE:3
DTSTAMP:20260423T200800Z
URL:https://members.schaumburgbusiness.com/events/details/doing-business-in-indonesia-international-trade-special-event-08-04-2011-287
END:VEVENT

END:VCALENDAR
