BEGIN:VCALENDAR
VERSION:2.0
PRODID:-//ChamberMaster//Event Calendar 2.0//EN
METHOD:PUBLISH
X-PUBLISHED-TTL:P3D
REFRESH-INTERVAL:P3D
CALSCALE:GREGORIAN
BEGIN:VEVENT
DTSTART:20130925T160000Z
DTEND:20130925T190000Z
X-MICROSOFT-CDO-ALLDAYEVENT:FALSE
SUMMARY:Daily Herald Reality Check
DESCRIPTION:Daily Herald Media Group presents:  \nAffordable Care Act - Reality Check The recent announcement of the Employer Mandate delay has given many business owners a false sense of security with respect to the Affordable Care Act. Despite this particular delay\, there are many issues that must be addressed by business owners to get ready now and avoid penalties in 2015 and beyond.\n \nJoin the Daily Herald for a panel discussion and lunch with experts from the following industries:\n\nGovernmentMark W. Everson\, Former Commissioner\nInternal Revenue Service (2003-2007)\n**Also seen on CNBC & Fox News\n\nInsurance BrokerageMark Lam\, Vice President of Benefits Compliance\nAssurance\n\nCarrierBrian Cheney\, Senior Director Exchange Markets\nBlue Cross and Blue Shield of Illinois\n\nTaxesKyle Vroegh\, CPA\, MAS\nPorte Brown LLC\n\nHealth NetworkMichael Hartke\, COO\nNorthwest Community Hospital\n\nHuman ResourcesAngela Adams\, CEBS\, SPHR\nManagement Association\n \nWhen: Wednesday\, September 25\n11 a.m. - 2 p.m.\n \nWhere: Chandlers at the Schaumburg Golf Club\n401 North Roselle Road\nSchaumburg\, IL\n \nCost: $25 includes networking\, plated lunch and panel discussion\n \nRegister:  http://events.dailyherald.com/Daily_Herald_Events/aca.html \n \nSponsors: Northwest Community Hospital\, Porte Brown LLC and Assurance\n \nCommunity partners: The Schaumburg Business Association\, Management Association\, SBAC\, GOA Association and Arlington Heights\, Elk Grove\, Hoffman Estates\, Itasca\, Mount Prospect and Rolling Meadows Chambers of Commerce
X-ALT-DESC;FMTTYPE=text/html:<H2 style='MARGIN: 0in 0in 7.5pt'><SPAN style='mso-fareast-font-family: 'Times New Roman''><FONT color=#2a448b><FONT face=Verdana>Daily Herald Media Group presents: &nbsp\;<BR>Affordable Care Act - Reality Check&nbsp\;<xml:namespace prefix = 'o' ns = 'urn:schemas-microsoft-com:office:office' /><o:p></o:p></FONT></FONT></SPAN></H2><P class=MsoNormal style='MARGIN: 0in 0in 0pt\; LINE-HEIGHT: 150%' align=center><SPAN style='FONT-SIZE: 10pt\; FONT-FAMILY: 'Verdana'\,'sans-serif'\; COLOR: #303030\; LINE-HEIGHT: 150%\; mso-fareast-font-family: 'Times New Roman''>The recent announcement of the Employer Mandate delay has given many business owners a false sense of security with respect to the Affordable Care Act. Despite this particular delay\, there are many issues that must be addressed by business owners to get ready now and avoid penalties in 2015 and beyond.<BR>&nbsp\;<BR>Join the Daily Herald for a panel discussion and lunch with experts from the following industries:<BR><BR><STRONG><SPAN style='FONT-FAMILY: 'Verdana'\,'sans-serif''>Government</SPAN></STRONG></SPAN></P><P class=MsoNormal style='MARGIN: 0in 0in 0pt\; LINE-HEIGHT: 150%' align=center><SPAN style='FONT-SIZE: 10pt\; FONT-FAMILY: 'Verdana'\,'sans-serif'\; COLOR: #303030\; LINE-HEIGHT: 150%\; mso-fareast-font-family: 'Times New Roman''><STRONG><SPAN style='FONT-FAMILY: 'Verdana'\,'sans-serif''></SPAN></STRONG>Mark W. Everson\, Former Commissioner<BR><EM><SPAN style='FONT-FAMILY: 'Verdana'\,'sans-serif''>Internal Revenue Service (2003-2007)</SPAN></EM><BR></SPAN><SPAN style='FONT-SIZE: 10pt\; FONT-FAMILY: 'Verdana'\,'sans-serif'\; COLOR: #303030\; LINE-HEIGHT: 150%\; mso-fareast-font-family: 'Times New Roman''>**Also seen on CNBC &amp\; Fox News<BR><BR><STRONG><SPAN style='FONT-FAMILY: 'Verdana'\,'sans-serif''>Insurance Brokerage</SPAN></STRONG></SPAN></P><P class=MsoNormal style='MARGIN: 0in 0in 0pt\; LINE-HEIGHT: 150%' align=center><SPAN style='FONT-SIZE: 10pt\; FONT-FAMILY: 'Verdana'\,'sans-serif'\; COLOR: #303030\; LINE-HEIGHT: 150%\; mso-fareast-font-family: 'Times New Roman''><STRONG><SPAN style='FONT-FAMILY: 'Verdana'\,'sans-serif''></SPAN></STRONG>Mark Lam\,&nbsp\;Vice President of Benefits Compliance<BR><EM><SPAN style='FONT-FAMILY: 'Verdana'\,'sans-serif''>Assurance</SPAN></EM><BR><BR><STRONG><SPAN style='FONT-FAMILY: 'Verdana'\,'sans-serif''>Carrier</SPAN></STRONG></SPAN></P><P class=MsoNormal style='MARGIN: 0in 0in 0pt\; LINE-HEIGHT: 150%' align=center><SPAN style='FONT-SIZE: 10pt\; FONT-FAMILY: 'Verdana'\,'sans-serif'\; COLOR: #303030\; LINE-HEIGHT: 150%\; mso-fareast-font-family: 'Times New Roman''><STRONG><SPAN style='FONT-FAMILY: 'Verdana'\,'sans-serif''></SPAN></STRONG></SPAN><SPAN style='FONT-SIZE: 10pt\; FONT-FAMILY: 'Verdana'\,'sans-serif'\; COLOR: #303030\; LINE-HEIGHT: 150%\; mso-fareast-font-family: 'Times New Roman''>Brian Cheney\, Senior Director Exchange Markets<BR></SPAN><SPAN style='FONT-SIZE: 10pt\; FONT-FAMILY: 'Verdana'\,'sans-serif'\; COLOR: #303030\; LINE-HEIGHT: 150%\; mso-fareast-font-family: 'Times New Roman''><EM><SPAN style='FONT-FAMILY: 'Verdana'\,'sans-serif''>Blue Cross and Blue Shield of Illinois</SPAN></EM><BR><BR><STRONG><SPAN style='FONT-FAMILY: 'Verdana'\,'sans-serif''>Taxes</SPAN></STRONG></SPAN></P><P class=MsoNormal style='MARGIN: 0in 0in 0pt\; LINE-HEIGHT: 150%' align=center><SPAN style='FONT-SIZE: 10pt\; FONT-FAMILY: 'Verdana'\,'sans-serif'\; COLOR: #303030\; LINE-HEIGHT: 150%\; mso-fareast-font-family: 'Times New Roman''><STRONG><SPAN style='FONT-FAMILY: 'Verdana'\,'sans-serif''></SPAN></STRONG></SPAN><SPAN style='FONT-SIZE: 10pt\; FONT-FAMILY: 'Verdana'\,'sans-serif'\; COLOR: #303030\; LINE-HEIGHT: 150%\; mso-fareast-font-family: 'Times New Roman''><STRONG><SPAN style='FONT-FAMILY: 'Verdana'\,'sans-serif''></SPAN></STRONG>Kyle Vroegh\, CPA\, MAS<BR><EM><SPAN style='FONT-FAMILY: 'Verdana'\,'sans-serif''>Porte Brown LLC</SPAN></EM><BR><BR><STRONG><SPAN style='FONT-FAMILY: 'Verdana'\,'sans-serif''>Health Network</SPAN></STRONG></SPAN></P><P class=MsoNormal style='MARGIN: 0in 0in 0pt\; LINE-HEIGHT: 150%' align=center><SPAN style='FONT-SIZE: 10pt\; FONT-FAMILY: 'Verdana'\,'sans-serif'\; COLOR: #303030\; LINE-HEIGHT: 150%\; mso-fareast-font-family: 'Times New Roman''><STRONG><SPAN style='FONT-FAMILY: 'Verdana'\,'sans-serif''></SPAN></STRONG></SPAN><SPAN style='FONT-SIZE: 10pt\; FONT-FAMILY: 'Verdana'\,'sans-serif'\; COLOR: #303030\; LINE-HEIGHT: 150%\; mso-fareast-font-family: 'Times New Roman''>Michael Hartke\, COO<BR><EM><SPAN style='FONT-FAMILY: 'Verdana'\,'sans-serif''>Northwest Community Hospital</SPAN></EM><BR><BR><STRONG><SPAN style='FONT-FAMILY: 'Verdana'\,'sans-serif''>Human Resources</SPAN></STRONG></SPAN></P><P class=MsoNormal style='MARGIN: 0in 0in 0pt\; LINE-HEIGHT: 150%' align=center><SPAN style='FONT-SIZE: 10pt\; FONT-FAMILY: 'Verdana'\,'sans-serif'\; COLOR: #303030\; LINE-HEIGHT: 150%\; mso-fareast-font-family: 'Times New Roman''>Angela Adams\, CEBS\, SPHR<BR><EM><SPAN style='FONT-FAMILY: 'Verdana'\,'sans-serif''>Management Association</SPAN></EM><BR>&nbsp\;</SPAN></P><SPAN style='FONT-SIZE: 10pt\; FONT-FAMILY: 'Verdana'\,'sans-serif'\; COLOR: #303030\; LINE-HEIGHT: 150%\; mso-fareast-font-family: 'Times New Roman''><P class=MsoNormal style='MARGIN: 0in 0in 0pt\; LINE-HEIGHT: 150%' align=left><BR><STRONG>When</STRONG>: Wednesday\, September 25<BR>11 a.m. - 2 p.m.<BR>&nbsp\;<BR><STRONG>Where</STRONG>: Chandlers at the Schaumburg Golf Club<BR>401 North Roselle Road<BR>Schaumburg\, IL<BR>&nbsp\;<BR><STRONG>Cost</STRONG>: $25 includes networking\, plated lunch and panel discussion<BR>&nbsp\;<BR><STRONG>Register</STRONG>:&nbsp\; <A href='http://schaumburgbusiness.us5.list-manage.com/track/clicku=c8d091cd99e459181349a38b0&amp\;id=0c50f8fbf9&amp\;e=00226dd3bf' target=_self><SPAN style='COLOR: #2a448b'>http://events.dailyherald.com/Daily_Herald_Events/aca.html</SPAN></A>&nbsp\;<BR>&nbsp\;</P><P class=MsoNormal style='MARGIN: 0in 0in 0pt\; LINE-HEIGHT: 150%' align=left><BR><STRONG>Sponsors</STRONG>: Northwest Community Hospital\, Porte Brown LLC and Assurance<BR>&nbsp\;<BR></SPAN><xml:namespace prefix = 'v' ns = 'urn:schemas-microsoft-com:vml' /><v:shapetype id=_x0000_t75 coordsize='21600\,21600' o:spt='75' o:preferrelative='t' path='m@4@5l@4@11@9@11@9@5xe' filled='f' stroked='f'><v:stroke joinstyle='miter'></v:stroke><v:formulas><v:f eqn='if lineDrawn pixelLineWidth 0'></v:f><v:f eqn='sum @0 1 0'></v:f><v:f eqn='sum 0 0 @1'></v:f><v:f eqn='prod @2 1 2'></v:f><v:f eqn='prod @3 21600 pixelWidth'></v:f><v:f eqn='prod @3 21600 pixelHeight'></v:f><v:f eqn='sum @0 0 1'></v:f><v:f eqn='prod @6 1 2'></v:f><v:f eqn='prod @7 21600 pixelWidth'></v:f><v:f eqn='sum @8 21600 0'></v:f><v:f eqn='prod @7 21600 pixelHeight'></v:f><v:f eqn='sum @10 21600 0'></v:f></v:formulas><v:path o:extrusionok='f' gradientshapeok='t' o:connecttype='rect'></v:path><o:lock v:ext='edit' aspectratio='t'></o:lock></v:shapetype><SPAN style='FONT-SIZE: 10pt\; FONT-FAMILY: 'Verdana'\,'sans-serif'\; COLOR: #303030\; LINE-HEIGHT: 150%\; mso-fareast-font-family: 'Times New Roman''>Community partners: The Schaumburg Business Association\,&nbsp\;Management Association\, SBAC\,&nbsp\;GOA Association and Arlington Heights\, Elk Grove\, Hoffman Estates\, Itasca\, Mount Prospect and Rolling Meadows Chambers of Commerce<o:p></o:p></SPAN></P><DIV style='FONT-FAMILY: Arial'>&nbsp\;</DIV>
LOCATION:Chandler's
UID:e.9129.428
SEQUENCE:3
DTSTAMP:20260420T082630Z
URL:https://members.schaumburgbusiness.com/events/details/daily-herald-reality-check-09-25-2013-428
END:VEVENT

END:VCALENDAR
