BEGIN:VCALENDAR
VERSION:2.0
PRODID:-//ChamberMaster//Event Calendar 2.0//EN
METHOD:PUBLISH
X-PUBLISHED-TTL:P3D
REFRESH-INTERVAL:P3D
CALSCALE:GREGORIAN
BEGIN:VEVENT
DTSTART:20111012T140000Z
DTEND:20111012T163000Z
X-MICROSOFT-CDO-ALLDAYEVENT:FALSE
SUMMARY:Business Services Workshop with State Rep. Michelle Mussman
DESCRIPTION:Please join State Representative Michelle Mussman and the Schaumburg Business Association for aBusiness Services WorkshopJoin Rep. Mussman & the Illinois Department of Employment Security business experts for a free workshop on state assistance available to business owners.Wednesday\, October 129:00 a.m. - 11:30 a.m. • Registration at 8:30 a.m.Harper College • Wojcik Conference Center 1200 W. Algonquin Rd. • Palatine Topics include:Tax Credits for New Hires • Mock Adjudication InterviewsNew Employee Bonding Program • TaxNetLabor Market InformationUnderstanding & Handling Unemployment Insurance Claim ProtestsFree EventTo RSVP\, please call Rep. Mussman’s Constituent Service Office at (847) 923-9104 or e-mail staterepmussman@gmail.com with the name of your business/organization and the number of those attending.
X-ALT-DESC;FMTTYPE=text/html:<DIV style='FONT-FAMILY: Arial'><P style='TEXT-ALIGN: center\; MARGIN: 0in 0in 0pt' class=Pa0 align=center><SPAN class=A0><SPAN style='FONT-SIZE: 19pt'>Please join State Representative </SPAN></SPAN><SPAN style='COLOR: black\; FONT-SIZE: 19pt'><xml:namespace prefix = o ns = 'urn:schemas-microsoft-com:office:office' /><o:p></o:p></SPAN></P><P style='TEXT-ALIGN: center\; MARGIN: 0in 0in 0pt' class=Pa0 align=center><STRONG><SPAN class=A1><SPAN style='FONT-SIZE: 46pt'>Michelle Mussman </SPAN></SPAN><SPAN style='COLOR: black\; FONT-SIZE: 46pt'><o:p></o:p></SPAN></STRONG></P><P style='TEXT-ALIGN: center\; MARGIN: 0in 0in 0pt' class=Pa0 align=center><SPAN style='COLOR: black\; FONT-SIZE: 13pt'>and the <o:p></o:p></SPAN></P><P style='TEXT-ALIGN: center\; MARGIN: 0in 0in 0pt' class=Pa0 align=center><SPAN style='COLOR: black\; FONT-SIZE: 26pt'>Schaumburg Business Association <o:p></o:p></SPAN></P><P style='TEXT-ALIGN: center\; MARGIN: 0in 0in 0pt' class=Pa0 align=center><SPAN class=A4><SPAN style='FONT-SIZE: 14pt'>for a</SPAN></SPAN><SPAN style='COLOR: black\; FONT-SIZE: 14pt'><o:p></o:p></SPAN></P><P style='TEXT-ALIGN: center\; MARGIN: 0in 0in 0pt' class=Pa0 align=center><FONT face=Narkisim><SPAN class=A12><SPAN style='FONT-SIZE: 45.5pt'>Business Services </SPAN></SPAN><SPAN style='FONT-FAMILY: 'Narkisim'\,'sans-serif'\; COLOR: black\; FONT-SIZE: 45.5pt\; mso-ascii-font-family: Narkisim'><o:p></o:p></SPAN></FONT></P><P style='TEXT-ALIGN: center\; MARGIN: 0in 0in 0pt' class=Pa0 align=center><STRONG><SPAN class=A13><SPAN style='FONT-SIZE: 67.5pt'>Workshop</SPAN></SPAN><SPAN style='COLOR: black\; FONT-SIZE: 67.5pt'><o:p></o:p></SPAN></STRONG></P><P style='TEXT-ALIGN: center\; MARGIN: 0in 0in 0pt' class=Pa0 align=center><SPAN class=A14><SPAN style='FONT-SIZE: 16pt'>Join Rep. Mussman &amp\; the Illinois Department of Employment Security business experts for a free workshop on state assistance available to business owners.</SPAN></SPAN><SPAN style='COLOR: black\; FONT-SIZE: 16pt'><o:p></o:p></SPAN></P><P style='TEXT-ALIGN: center\; MARGIN: 0in 0in 0pt' class=Pa0 align=center><FONT face=Narkisim><SPAN class=A5><SPAN style='FONT-SIZE: 34pt'>Wednesday\, October 12</SPAN></SPAN><SPAN style='FONT-FAMILY: 'Narkisim'\,'sans-serif'\; COLOR: black\; FONT-SIZE: 34pt\; mso-ascii-font-family: Narkisim'><o:p></o:p></SPAN></FONT></P><P style='TEXT-ALIGN: center\; MARGIN: 0in 0in 0pt' class=Pa0 align=center><B><SPAN style='COLOR: black\; FONT-SIZE: 17pt'>9:00 a.m. - 11:30 a.m. • Registration at 8:30 a.m.</SPAN></B><SPAN style='COLOR: black\; FONT-SIZE: 17pt'><o:p></o:p></SPAN></P><P style='TEXT-ALIGN: center\; MARGIN: 0in 0in 0pt' class=Pa0 align=center><STRONG><SPAN class=A7><SPAN style='FONT-SIZE: 14.5pt'>Harper College • Wojcik Conference Center </SPAN></SPAN><SPAN style='COLOR: black\; FONT-SIZE: 14.5pt'><o:p></o:p></SPAN></STRONG></P><P style='TEXT-ALIGN: center\; MARGIN: 0in 0in 0pt' class=Pa0 align=center><SPAN class=A7><SPAN style='FONT-SIZE: 14.5pt'><STRONG>1200 W. Algonquin Rd. • Palatine</STRONG></SPAN></SPAN><SPAN style='COLOR: black\; FONT-SIZE: 14.5pt'><o:p></o:p></SPAN></P><P style='TEXT-ALIGN: center\; MARGIN: 0in 0in 0pt' class=Pa0 align=center>&nbsp\;</P><P style='TEXT-ALIGN: center\; MARGIN: 0in 0in 0pt\; mso-line-height-alt: 12.05pt' class=Default align=center><SPAN style='FONT-FAMILY: 'Narkisim'\,'sans-serif'\; COLOR: windowtext\; FONT-SIZE: 20pt\; mso-ascii-font-family: Narkisim'>Topics include:<o:p></o:p></SPAN></P><P style='TEXT-ALIGN: center\; MARGIN: 0in 0in 0pt' class=Pa0 align=center><SPAN class=A9><SPAN style='FONT-SIZE: 11.5pt'>Tax Credits for New Hires • Mock Adjudication Interviews</SPAN></SPAN><SPAN style='FONT-SIZE: 11.5pt'><o:p></o:p></SPAN></P><P style='TEXT-ALIGN: center\; MARGIN: 0in 0in 0pt' class=Pa0 align=center><SPAN class=A9><SPAN style='FONT-SIZE: 11.5pt'>New Employee Bonding Program • TaxNet</SPAN></SPAN><SPAN style='FONT-SIZE: 11.5pt'><o:p></o:p></SPAN></P><P style='TEXT-ALIGN: center\; MARGIN: 0in 0in 0pt' class=Pa0 align=center><SPAN class=A9><SPAN style='FONT-SIZE: 11.5pt'>Labor Market Information</SPAN></SPAN><SPAN style='FONT-SIZE: 11.5pt'><o:p></o:p></SPAN></P><P style='TEXT-ALIGN: center\; MARGIN: 0in 0in 0pt' class=Pa0 align=center><SPAN class=A9><SPAN style='FONT-SIZE: 11.5pt'>Understanding &amp\; Handling Unemployment Insurance Claim Protests</SPAN></SPAN><SPAN style='FONT-SIZE: 11.5pt'><o:p></o:p></SPAN></P><P style='TEXT-ALIGN: center\; MARGIN: 0in 0in 0pt' class=Pa1 align=center><SPAN class=A11><SPAN style='FONT-SIZE: 21.5pt'>Free Event</SPAN></SPAN><SPAN style='FONT-FAMILY: 'Channel'\,'sans-serif'\; FONT-SIZE: 21.5pt\; mso-bidi-font-family: Channel'><o:p></o:p></SPAN></P><P style='TEXT-ALIGN: center\; MARGIN: 0in 0in 0pt\; mso-line-height-alt: 12.05pt' class=Default align=center><SPAN class=A4><SPAN style='COLOR: windowtext\; FONT-SIZE: 14pt'>To RSVP\, please call Rep. Mussman’s Constituent Service Office at (847) 923-9104 or e-mail staterepmussman@gmail.com with the name of your business/organization and the number of those attending.</SPAN></SPAN><SPAN style='COLOR: windowtext\; FONT-SIZE: 14pt'><o:p></o:p></SPAN></P></DIV>
LOCATION:Harper College
UID:e.9129.289
SEQUENCE:3
DTSTAMP:20260423T171606Z
URL:https://members.schaumburgbusiness.com/events/details/business-services-workshop-with-state-rep-michelle-mussman-10-12-2011-289
END:VEVENT

END:VCALENDAR
