BEGIN:VCALENDAR
VERSION:2.0
PRODID:-//ChamberMaster//Event Calendar 2.0//EN
METHOD:PUBLISH
X-PUBLISHED-TTL:P3D
REFRESH-INTERVAL:P3D
CALSCALE:GREGORIAN
BEGIN:VEVENT
DTSTART:20101208T170000Z
DTEND:20101208T193000Z
X-MICROSOFT-CDO-ALLDAYEVENT:FALSE
SUMMARY:Business Leaders Roundtable hosted by Daily Herald
DESCRIPTION:Business Leaders Roundtable The Topic: Business & Economic Outlook 2011 Presented by Daily Herald Suburban Business  Wednesday\, December 8\, 201011:00 AM: Registration\, networking and lunch12:15 PM sharp: Panel discussion1:30 PM: Adjournment  SBA members attend for $24.75 (45% discount)\,and lunch will be served. Register online with promo code 'VIP'at http://Tinyurl.com/23a5o9x   Please RSVP by Friday\, December 3 For more information\, contact Andy Zielonka at847-427-4856
X-ALT-DESC;FMTTYPE=text/html:<DIV style='FONT-FAMILY: Arial'><P style='TEXT-ALIGN: center\; MARGIN: 0in 0in 0pt' class=MsoNormal align=center><B style='mso-bidi-font-weight: normal'><SPAN style='FONT-FAMILY: 'Arial'\,'sans-serif'\; FONT-SIZE: 26pt'>Business Leaders Roundtable<xml:namespace prefix = o ns = 'urn:schemas-microsoft-com:office:office' /><o:p></o:p></SPAN></B></P><P style='TEXT-ALIGN: center\; MARGIN: 0in 0in 0pt' class=MsoNormal align=center><B style='mso-bidi-font-weight: normal'><SPAN style='FONT-FAMILY: 'Arial'\,'sans-serif'\; FONT-SIZE: 8pt'><o:p>&nbsp\;</o:p></SPAN></B></P><H1 style='BORDER-BOTTOM: windowtext 1pt solid\; BORDER-LEFT: windowtext 1pt solid\; PADDING-BOTTOM: 1pt\; MARGIN: 0in 0in 0pt\; PADDING-LEFT: 4pt\; PADDING-RIGHT: 4pt\; BORDER-TOP: windowtext 1pt solid\; BORDER-RIGHT: windowtext 1pt solid\; PADDING-TOP: 1pt\; mso-border-alt: solid windowtext .5pt\; mso-element: para-border-div' align=center><FONT size=5>The Topic: Business &amp\; Economic Outlook 2011</FONT></H1><P style='TEXT-ALIGN: center\; MARGIN: 0in 0in 0pt' class=MsoNormal align=center><I style='mso-bidi-font-style: normal'><SPAN style='FONT-FAMILY: 'Arial'\,'sans-serif'\; FONT-SIZE: 9pt'><o:p>&nbsp\;</o:p></SPAN></I></P><P style='TEXT-ALIGN: center\; MARGIN: 0in 0in 0pt' class=MsoNormal align=center><I style='mso-bidi-font-style: normal'><SPAN style='FONT-FAMILY: 'Arial'\,'sans-serif'\; FONT-SIZE: 14pt'>Presented by Daily Herald Suburban Business<o:p></o:p></SPAN></I></P><P style='TEXT-ALIGN: center\; MARGIN: 0in 0in 0pt' class=MsoNormal align=center><B style='mso-bidi-font-weight: normal'><SPAN style='FONT-FAMILY: 'Arial'\,'sans-serif'\; FONT-SIZE: 9pt'><o:p>&nbsp\;</o:p></SPAN></B></P><P style='TEXT-ALIGN: center\; MARGIN: 0in 0in 0pt' class=MsoNormal align=center><B style='mso-bidi-font-weight: normal'><SPAN style='FONT-FAMILY: 'Arial'\,'sans-serif'\; FONT-SIZE: 9pt'><o:p></o:p></SPAN></B>&nbsp\;</P><P style='TEXT-ALIGN: center\; MARGIN: 0in 0in 0pt' class=MsoNormal align=center><B style='mso-bidi-font-weight: normal'><SPAN style='FONT-FAMILY: 'Arial'\,'sans-serif'\; FONT-SIZE: 18pt'>Wednesday\, December 8\, 2010<o:p></o:p></SPAN></B></P><P style='TEXT-ALIGN: center\; MARGIN: 0in 0in 0pt' class=MsoNormal align=center><SPAN style='FONT-FAMILY: 'Arial'\,'sans-serif'\; FONT-SIZE: 14pt'>11:00 AM: Registration\, networking and lunch<o:p></o:p></SPAN></P><P style='TEXT-ALIGN: center\; MARGIN: 0in 0in 0pt' class=MsoNormal align=center><SPAN style='FONT-FAMILY: 'Arial'\,'sans-serif'\; FONT-SIZE: 14pt'>12:15&nbsp\;PM sharp: Panel discussion<o:p></o:p></SPAN></P><P style='TEXT-ALIGN: center\; MARGIN: 0in 0in 0pt' class=MsoNormal align=center><SPAN style='FONT-FAMILY: 'Arial'\,'sans-serif'\; FONT-SIZE: 14pt'>1:30 PM: Adjournment<o:p></o:p></SPAN></P><P style='TEXT-ALIGN: center\; MARGIN: 0in 0in 0pt' class=MsoNormal align=center><SPAN style='FONT-FAMILY: 'Arial'\,'sans-serif'\; FONT-SIZE: 14pt'><o:p>&nbsp\;</o:p></SPAN></P><P style='TEXT-ALIGN: center\; MARGIN: 0in 0in 0pt' class=MsoNormal align=center><SPAN style='FONT-FAMILY: 'Arial'\,'sans-serif'\; FONT-SIZE: 10pt'><o:p></o:p></SPAN>&nbsp\;</P><SPAN style='FONT-FAMILY: 'Arial'\,'sans-serif'\; FONT-SIZE: 10pt'><o:p><P style='MARGIN: 0in 0in 0pt' class=MsoPlainText align=center><SPAN style='FONT-FAMILY: 'Palatino Linotype'\,'serif'\; mso-bidi-font-size: 11.0pt'><FONT color=#800000 size=4 face=Arial><STRONG>SBA members attend for $24.75&nbsp\;(45% discount)\,</STRONG></FONT></SPAN></P><P style='MARGIN: 0in 0in 0pt' class=MsoPlainText align=center><SPAN style='FONT-FAMILY: 'Palatino Linotype'\,'serif'\; mso-bidi-font-size: 11.0pt'><FONT color=#800000 size=4 face=Arial><STRONG>and lunch will be served.</STRONG></FONT></SPAN></P><P style='MARGIN: 0in 0in 0pt' class=MsoPlainText align=center><SPAN style='FONT-FAMILY: 'Palatino Linotype'\,'serif'\; mso-bidi-font-size: 11.0pt'><FONT color=#800000 size=5 face=Arial><STRONG></STRONG></FONT></SPAN>&nbsp\;</P><P style='MARGIN: 0in 0in 0pt' class=MsoPlainText align=center><SPAN style='FONT-FAMILY: 'Palatino Linotype'\,'serif'\; mso-bidi-font-size: 11.0pt'><FONT color=#0000ff face=Arial><STRONG><FONT color=#800000 size=5>Register online with promo code '<U>VIP</U>'</FONT></STRONG></FONT></SPAN></P><P style='MARGIN: 0in 0in 0pt' class=MsoPlainText align=center><SPAN style='FONT-FAMILY: 'Palatino Linotype'\,'serif'\; mso-bidi-font-size: 11.0pt'><FONT color=#0000ff face=Arial><STRONG><FONT size=5><FONT color=#800000>at</FONT> </FONT></STRONG></FONT></SPAN><A style='COLOR: blue\; TEXT-DECORATION: underline' title='' dataFld=0:0 href='http://registeruo.niu.edu/iebms/reg/reg_p4_promo.aspx&amp\;sessionid=fa5fc4ei4fg3fb5fa0feo' target=_self><SPAN style='FONT-FAMILY: 'Palatino Linotype'\,'serif'\; mso-bidi-font-size: 11.0pt'><FONT color=#0000ff size=5 face=Arial><STRONG>http://Tinyurl.com/23a5o9x</STRONG></FONT></SPAN></A><SPAN style='FONT-FAMILY: 'Palatino Linotype'\,'serif'\; mso-bidi-font-size: 11.0pt'><FONT face=Arial><STRONG><FONT color=#0000ff><FONT size=5> <o:p></o:p></FONT></FONT></STRONG></FONT></SPAN></P></o:p></SPAN><P style='TEXT-ALIGN: center\; MARGIN: 0in 0in 0pt' class=MsoNormal align=center><SPAN style='FONT-FAMILY: 'Arial'\,'sans-serif'\; FONT-SIZE: 14pt'></SPAN>&nbsp\;</P><P style='TEXT-ALIGN: center\; MARGIN: 0in 0in 0pt' class=MsoNormal align=center><SPAN style='FONT-FAMILY: 'Arial'\,'sans-serif'\; FONT-SIZE: 14pt'></SPAN>&nbsp\;</P><P style='TEXT-ALIGN: center\; MARGIN: 0in 0in 0pt' class=MsoNormal align=center><SPAN style='FONT-FAMILY: 'Arial'\,'sans-serif'\; FONT-SIZE: 14pt'>Please RSVP by Friday\, December 3<o:p></o:p></SPAN></P><P style='TEXT-ALIGN: center\; MARGIN: 0in 0in 0pt' class=MsoNormal align=center><SPAN style='FONT-FAMILY: 'Arial'\,'sans-serif'\; FONT-SIZE: 14pt'><o:p>&nbsp\;</o:p></SPAN></P><P style='TEXT-ALIGN: center\; MARGIN: 0in 0in 0pt' class=MsoNormal align=center><I style='mso-bidi-font-style: normal'><SPAN style='FONT-FAMILY: 'Arial'\,'sans-serif'\; FONT-SIZE: 14pt'>For more information\, contact Andy Zielonka at</SPAN></I></P><P style='TEXT-ALIGN: center\; MARGIN: 0in 0in 0pt' class=MsoNormal align=center><I style='mso-bidi-font-style: normal'><SPAN style='FONT-FAMILY: 'Arial'\,'sans-serif'\; FONT-SIZE: 14pt'>847-427-4856</SPAN></I></P></DIV>
LOCATION:Stonegate Conference Center
UID:e.9129.226
SEQUENCE:3
DTSTAMP:20260424T072052Z
URL:https://members.schaumburgbusiness.com/events/details/business-leaders-roundtable-hosted-by-daily-herald-12-08-2010-226
END:VEVENT

END:VCALENDAR
