BEGIN:VCALENDAR
VERSION:2.0
PRODID:-//ChamberMaster//Event Calendar 2.0//EN
METHOD:PUBLISH
X-PUBLISHED-TTL:P3D
REFRESH-INTERVAL:P3D
CALSCALE:GREGORIAN
BEGIN:VEVENT
DTSTART:20101112T140000Z
DTEND:20101112T153000Z
X-MICROSOFT-CDO-ALLDAYEVENT:FALSE
SUMMARY:Business Institute 2010 Program IV - Time Management
DESCRIPTION:Schaumburg Business Association Business Institute 2010 Business Institute 2010 is a four part program that focuses on improving behaviors and attitudes to achieve the maximum results for your business. The Institute is designed to help individuals who truly have the desire to exceed goals and improve their bottom line. November 12\, 2010 Program IVAchieve More in Less Time Have you ever said\, “There’s just not enough time in a day.”  Managing your time effectively is the key to success.  Learn how to get the most out of every minute of the day and schedule time to achieve your goals.  Managing your time effectively will allow you to get more done AND have time left over to enjoy what’s meaningful to you.
X-ALT-DESC;FMTTYPE=text/html:<DIV style='FONT-FAMILY: Arial'><P style='MARGIN: 0in 0in 0pt' class=MsoNormal><B style='mso-bidi-font-weight: normal'><U><SPAN style='TEXT-TRANSFORM: uppercase\; FONT-FAMILY: 'Baskerville Old Face'\; COLOR: #003399\; mso-bidi-font-family: Arial'><FONT size=4 face='Times New Roman'>Schaumburg Business Association&nbsp\;Business Institute 2010</FONT></SPAN></U></B></P><P style='MARGIN: 0in 0in 0pt' class=MsoNormal><SPAN style='FONT-FAMILY: Arial\; FONT-SIZE: 11pt'><xml:namespace prefix = o ns = 'urn:schemas-microsoft-com:office:office' /><o:p><FONT size=4 face='Times New Roman'>&nbsp\;</FONT></o:p></SPAN></P><P style='MARGIN: 0in 0in 0pt' class=MsoNormal><FONT size=4><FONT face='Times New Roman'><B style='mso-bidi-font-weight: normal'><SPAN style='FONT-FAMILY: 'Baskerville Old Face'\; FONT-SIZE: 11pt\; mso-bidi-font-family: Arial'>Business&nbsp\;Institute 2010 is a four part program that focuses on improving behaviors and attitudes to achieve the maximum results for your business. The Institute is designed to help individuals who truly</SPAN></B><SPAN style='FONT-FAMILY: 'Baskerville Old Face'\; FONT-SIZE: 11pt\; mso-bidi-font-family: Arial'> <B style='mso-bidi-font-weight: normal'>have the desire to exceed goals and improve their bottom line.</B></SPAN></FONT></FONT></P><P style='MARGIN: 0in 0in 0pt' class=MsoNormal><FONT size=4 face='Times New Roman'></FONT>&nbsp\;</P><P style='MARGIN: 0in 0in 0pt' class=MsoNormal><STRONG><FONT face='Times New Roman'><FONT size=4>November 12\, 2010 Program IV<o:p></o:p></FONT></FONT></STRONG></P><P style='MARGIN: 0in 0in 0pt' class=MsoNormal><B style='mso-bidi-font-weight: normal'><FONT face='Times New Roman'><FONT size=4>Achieve More in Less Time<o:p></o:p></FONT></FONT></B></P><P style='MARGIN: 0in 0in 0pt' class=MsoNormal><SPAN style='FONT-FAMILY: 'Baskerville Old Face''><o:p><FONT size=4 face='Times New Roman'>&nbsp\;</FONT></o:p></SPAN></P><P style='MARGIN: 0in 0in 0pt' class=MsoNormal><FONT size=4 face='Times New Roman'>Have you ever said<xml:namespace prefix = st1 ns = 'urn:schemas-microsoft-com:office:smarttags' /><st1:PersonName w:st='on'>\,</st1:PersonName> “There’s just not enough time in a day.”<SPAN style='mso-spacerun: yes'>&nbsp\; </SPAN>Managing your time effectively is the key to success.<SPAN style='mso-spacerun: yes'>&nbsp\; </SPAN>Learn how to get the most out of every minute of the day and schedule time to achieve your goals.<SPAN style='mso-spacerun: yes'>&nbsp\; </SPAN>Managing your time effectively will allow you to get more done AND have time left over to enjoy what’s meaningful to you.</FONT></P><P style='MARGIN: 0in 0in 0pt' class=MsoNormal>&nbsp\;</P></DIV>
LOCATION:The Schaumburg Corporate Center
UID:e.9129.181
SEQUENCE:3
DTSTAMP:20260424T071944Z
URL:https://members.schaumburgbusiness.com/events/details/business-institute-2010-program-iv-time-management-11-12-2010-181
END:VEVENT

END:VCALENDAR
