BEGIN:VCALENDAR
VERSION:2.0
PRODID:-//ChamberMaster//Event Calendar 2.0//EN
METHOD:PUBLISH
X-PUBLISHED-TTL:P3D
REFRESH-INTERVAL:P3D
CALSCALE:GREGORIAN
BEGIN:VEVENT
DTSTART:20100514T130000Z
DTEND:20100514T143000Z
X-MICROSOFT-CDO-ALLDAYEVENT:FALSE
SUMMARY:Business Institute 2010 Program II - How to Break Records
DESCRIPTION:Schaumburg Business Association Business Institute 2010 Business Institute 2010 is a four part program that focuses on improving behaviors and attitudes to achieve the maximum results for your business. The Institute is designed to help individuals who truly have the desire to exceed goals and improve their bottom line. May 14\, 2010 – Program IIRecords Were Meant to be Broken  Are you ready to break a few records of your own In this program you will discover the four things that show up in every record-breaking performance. With this knowledge you will find the strength to leave your comfort zone to create results you never thought possible August 27\, 2010 Program III\nChoose Your World View In Program III you will discover what your attitude actually “is” and “is not”.  Learn how to use skills to develop a positive attitude and winning mindset.  By the end of this session you will feel more energy and have strategies in order to wake up everyday at a high performance level.  November 12\, 2010 Program IVAchieve More in Less Time Have you ever said\, “There’s just not enough time in a day.”  Managing your time effectively is the key to success.  Learn how to get the most out of every minute of the day and schedule time to achieve your goals.  Managing your time effectively will allow you to get more done AND have time left over to enjoy what’s meaningful to you.
X-ALT-DESC;FMTTYPE=text/html:<DIV style='FONT-FAMILY: Arial'><P class=MsoNormal style='MARGIN: 0in 0in 0pt'><FONT face='Times New Roman'><B style='mso-bidi-font-weight: normal'><SPAN style='mso-spacerun: yes'>&nbsp\;<U><SPAN style='TEXT-TRANSFORM: uppercase\; COLOR: #003399\; FONT-FAMILY: 'Baskerville Old Face'\; mso-bidi-font-family: Arial'>Schaumburg Business Association&nbsp\;Business Institute 2010</SPAN></U></P><P class=MsoNormal style='MARGIN: 0in 0in 0pt'><SPAN style='FONT-SIZE: 11pt\; FONT-FAMILY: Arial'><xml:namespace prefix = o ns = 'urn:schemas-microsoft-com:office:office' /><o:p>&nbsp\;</o:p></SPAN></P><P class=MsoNormal style='MARGIN: 0in 0in 0pt'><SPAN>Business&nbsp\;Institute 2010 is a four part program that focuses on improving behaviors and attitudes to achieve the maximum results for your business. The Institute is designed to help individuals who truly have the desire to exceed goals and improve their bottom line.</SPAN></P><P class=MsoNormal style='MARGIN: 0in 0in 0pt'>&nbsp\;</P><P class=MsoNormal style='MARGIN: 0in 0in 0pt'>May 14\, 2010 – Program II<o:p></o:p></P><P class=MsoNormal style='MARGIN: 0in 0in 0pt'>Records Were Meant to be Broken<STRONG><SPAN style='FONT-WEIGHT: normal\; mso-bidi-font-weight: bold'> </SPAN></STRONG><o:p></o:p></P><P class=MsoNormal style='MARGIN: 0in 0in 0pt'>&nbsp\;</P><P class=MsoNormal style='MARGIN: 0in 0in 0pt'>Are you ready to break a few records of your own In this program you will discover the four things that show up in every record-breaking performance.&nbsp\;With this knowledge you will find the strength to leave your comfort zone to create results you never thought possible</P><P class=MsoNormal style='MARGIN: 0in 0in 0pt'>&nbsp\;</P><P class=MsoNormal style='MARGIN: 0in 0in 0pt'>August 27<xml:namespace prefix = st1 ns = 'urn:schemas-microsoft-com:office:smarttags' /><st1:PersonName w:st='on'>\,</st1:PersonName> 2010 Program III<BR>Choose Your World View</P><P class=MsoNormal style='MARGIN: 0in 0in 0pt'><o:p>&nbsp\;</o:p></P><P class=MsoNormal style='MARGIN: 0in 0in 0pt'>In&nbsp\;Program III&nbsp\;you will&nbsp\;discover what your attitude actually “is” and “is not”.&nbsp\; Learn how to&nbsp\;use&nbsp\;skills to&nbsp\;develop a positive attitude and winning mindset.<SPAN style='mso-spacerun: yes'>&nbsp\; </SPAN>By the end of this session&nbsp\;you will feel more energy and have strategies in order to wake up everyday at a high performance level.</P><P class=MsoNormal style='MARGIN: 0in 0in 0pt'><o:p>&nbsp\;</o:p></P><P class=MsoNormal style='MARGIN: 0in 0in 0pt'><o:p>&nbsp\;</o:p></P><P class=MsoNormal style='MARGIN: 0in 0in 0pt'>November 12\, 2010 Program IV<o:p></o:p></P><P class=MsoNormal style='MARGIN: 0in 0in 0pt'>Achieve More in Less Time<o:p></o:p></P><P class=MsoNormal style='MARGIN: 0in 0in 0pt'><SPAN style='FONT-FAMILY: 'Baskerville Old Face''><o:p>&nbsp\;</o:p></SPAN></P><P class=MsoNormal style='MARGIN: 0in 0in 0pt'>Have you ever said<st1:PersonName w:st='on'>\,</st1:PersonName> “There’s just not enough time in a day.”<SPAN style='mso-spacerun: yes'>&nbsp\; </SPAN>Managing your time effectively is the key to success.<SPAN style='mso-spacerun: yes'>&nbsp\; </SPAN>Learn how to get the most out of every minute of the day and schedule time to achieve your goals.<SPAN style='mso-spacerun: yes'>&nbsp\; </SPAN>Managing your time effectively will allow you to get more done AND have time left over to enjoy what’s meaningful to you.</P><P class=MsoNormal style='MARGIN: 0in 0in 0pt'>&nbsp\;</P><P class=MsoNormal style='MARGIN: 0in 0in 0pt'></SPAN></B></FONT></P></DIV>
LOCATION:The Schaumburg Corporate Center
UID:e.9129.179
SEQUENCE:3
DTSTAMP:20260424T154345Z
URL:https://members.schaumburgbusiness.com/events/details/business-institute-2010-program-ii-how-to-break-records-05-14-2010-179
END:VEVENT

END:VCALENDAR
