BEGIN:VCALENDAR
VERSION:2.0
PRODID:-//ChamberMaster//Event Calendar 2.0//EN
METHOD:PUBLISH
X-PUBLISHED-TTL:P3D
REFRESH-INTERVAL:P3D
CALSCALE:GREGORIAN
BEGIN:VEVENT
DTSTART:20100902T220000Z
DTEND:20100903T000000Z
X-MICROSOFT-CDO-ALLDAYEVENT:FALSE
SUMMARY:Business After Hours-The Seville
DESCRIPTION:BUSINESS AFTER HOURS - The Seville   Enjoy complimentary beverages and experience The Seville's fine cuisine as they team with their preferred vendors to offer you an evening filled with FUN\, FOOD and PRIZES. Music will be provided courtesy of Premier Events Entertainment.  They will be displaying sample room configurations decorated for holiday parties and also for business meeting scenarios.  FREE to attend if you are an SBA Member! Just bring plenty of business cards to network. Advance reservations are always appreciated.
X-ALT-DESC;FMTTYPE=text/html:<DIV><FONT color=#004080 size=5><STRONG>BUSINESS AFTER HOURS -&nbsp\;The Seville</STRONG></FONT></DIV><DIV><STRONG><FONT color=#004080 size=5></FONT></STRONG>&nbsp\;</DIV><DIV><SPAN style='FONT-SIZE: 12pt\; FONT-FAMILY: 'Times New Roman'\; mso-fareast-font-family: 'Times New Roman'\; mso-ansi-language: EN-US\; mso-fareast-language: EN-US\; mso-bidi-language: AR-SA'><xml:namespace prefix = v ns = 'urn:schemas-microsoft-com:vml' /><v:shapetype id=_x0000_t75 stroked='f' filled='f' path='m@4@5l@4@11@9@11@9@5xe' o:preferrelative='t' o:spt='75' coordsize='21600\,21600'></v:shapetype></SPAN>&nbsp\;</DIV><DIV>&nbsp\;</DIV><DIV><FONT size=3><FONT face='Times New Roman'><STRONG><FONT color=#0000a0><SPAN style='FONT-SIZE: 14pt\; FONT-FAMILY: Arial'>Enjoy complimentary beverages and experience&nbsp\;The Seville's&nbsp\;fine cuisine as&nbsp\;they team with&nbsp\;their preferred vendors to offer you an evening filled with FUN\, FOOD and PRIZES. </SPAN><SPAN style='FONT-SIZE: 14pt\; FONT-FAMILY: Arial\; mso-fareast-font-family: 'Times New Roman'\; mso-ansi-language: EN-US\; mso-fareast-language: EN-US\; mso-bidi-language: AR-SA'>Music will be provided courtesy of Premier Events Entertainment.<SPAN style='mso-spacerun: yes'>&nbsp\;&nbsp\;They</SPAN> will be displaying sample room configurations decorated for holiday parties and also for business meeting scenarios. </SPAN></FONT></STRONG></FONT></FONT></DIV><DIV><FONT size=3><FONT face='Times New Roman'><STRONG><FONT color=#0000a0><SPAN style='FONT-SIZE: 14pt\; FONT-FAMILY: Arial\; mso-fareast-font-family: 'Times New Roman'\; mso-ansi-language: EN-US\; mso-fareast-language: EN-US\; mso-bidi-language: AR-SA'></SPAN></FONT></STRONG></FONT></FONT>&nbsp\;</DIV><DIV><FONT size=3><FONT face='Times New Roman'><STRONG><FONT color=#0000a0><SPAN style='FONT-SIZE: 14pt\; FONT-FAMILY: Arial\; mso-fareast-font-family: 'Times New Roman'\; mso-ansi-language: EN-US\; mso-fareast-language: EN-US\; mso-bidi-language: AR-SA'></SPAN></FONT></STRONG></FONT></FONT><FONT face=Arial><FONT size=4><FONT color=#400080><FONT><STRONG>FREE to attend if you are an SBA Member! Just bring plenty of business cards to network. </STRONG></FONT><STRONG>Advance reservations are always appreciated.</STRONG></FONT></FONT></FONT></DIV>
LOCATION:The Seville
UID:e.9129.210
SEQUENCE:3
DTSTAMP:20260424T100419Z
URL:https://members.schaumburgbusiness.com/events/details/business-after-hours-the-seville-09-02-2010-210
END:VEVENT

END:VCALENDAR
