BEGIN:VCALENDAR
VERSION:2.0
PRODID:-//ChamberMaster//Event Calendar 2.0//EN
METHOD:PUBLISH
X-PUBLISHED-TTL:P3D
REFRESH-INTERVAL:P3D
CALSCALE:GREGORIAN
BEGIN:VEVENT
DTSTART:20140826T220000Z
DTEND:20140827T000000Z
X-MICROSOFT-CDO-ALLDAYEVENT:FALSE
SUMMARY:Business After Hours - Ricky B's Prime Burger House
DESCRIPTION:Join us at 5:00 p.m. to cut the Ribbon and stay to network.\n\n\n\nServing 100% handcrafted USDA PRIME BEEF burgers\, chef inspired sandwiches\, fresh local ingredient filled salads\, delectable sides\, homemade gelato shakes\, and one of a kind desserts! Their upscale yet inviting decor will make you feel like your dining in a downtown hot spot while being only minutes from your home or office.
X-ALT-DESC;FMTTYPE=text/html:Join us at 5:00 p.m. to cut the Ribbon and stay to network.<br />\n<br />\nServing 100% handcrafted USDA PRIME BEEF burgers\, chef inspired sandwiches\, fresh local ingredient filled salads\, delectable sides\, homemade gelato shakes\, and one of a kind desserts! Their upscale yet inviting decor will make you feel like your dining in a downtown hot spot while being only minutes from your home or office.&nbsp\;
LOCATION:5 Woodfield Mall Between Lord & Taylor and Sears. Between the Improv Comedy Club and Cheesecake Factory. Entrance is off parking lot.
UID:e.9129.1656
SEQUENCE:3
DTSTAMP:20260419T144435Z
URL:https://members.schaumburgbusiness.com/events/details/business-after-hours-ricky-b-s-prime-burger-house-08-26-2014-1656
END:VEVENT

END:VCALENDAR
