BEGIN:VCALENDAR
VERSION:2.0
PRODID:-//ChamberMaster//Event Calendar 2.0//EN
METHOD:PUBLISH
X-PUBLISHED-TTL:P3D
REFRESH-INTERVAL:P3D
CALSCALE:GREGORIAN
BEGIN:VEVENT
DTSTART:20100805T220000Z
DTEND:20100806T000000Z
X-MICROSOFT-CDO-ALLDAYEVENT:FALSE
SUMMARY:Business After Hours- Moretti's Ristorante and Pizzeria
DESCRIPTION:BUSINESS AFTER HOURS    Moretti's Ristorante and PizzeriaJoin the SBA for a fabulous evening\, including a spacious atmosphere for networking\, a delicious buffet\, beverages and much more at Moretti's Restorante and Pizzeria  in Schaumburg.  FREE to attend if you are a SBA Member\, just bring plenty of business cards to network!
X-ALT-DESC;FMTTYPE=text/html:<DIV align=center><FONT color=#800040><STRONG><FONT size=4>&nbsp\;</FONT><FONT size=5><FONT color=#ff0000>&nbsp\;</FONT><FONT color=#000080>BUSINESS AFTER HOURS</FONT></FONT></STRONG></FONT></DIV><DIV align=center><FONT color=#000080 size=4><STRONG>&nbsp\;&nbsp\;&nbsp\;&nbsp\;</STRONG></FONT></DIV><DIV align=center><FONT color=#000080 size=4><STRONG><P class=MsoNormal style='MARGIN: 0in 0in 0pt\; tab-stops: 103.5pt'><B style='mso-bidi-font-weight: normal'><SPAN style='FONT-SIZE: 9pt'><FONT size=5><EM><FONT color=#ff0000>Moretti's Ristorante and Pizzeria<xml:namespace prefix = o ns = 'urn:schemas-microsoft-com:office:office' /><o:p></o:p></FONT></EM></FONT></SPAN></B></P></STRONG></FONT></DIV><P align=center><STRONG>Join the SBA for a fabulous evening\, including a spacious atmosphere for&nbsp\;networking\, a delicious buffet\, beverages and much more at Moretti's Restorante and Pizzeria&nbsp\; in Schaumburg.&nbsp\;&nbsp\;</STRONG></P><P align=center><STRONG>FREE to attend if you are a SBA Member\, just bring plenty of business cards to network!</STRONG></P>
LOCATION:Moretti's Ristorante and Pizzeria
UID:e.9129.198
SEQUENCE:3
DTSTAMP:20260424T113345Z
URL:https://members.schaumburgbusiness.com/events/details/business-after-hours-moretti-s-ristorante-and-pizzeria-08-05-2010-198
END:VEVENT

END:VCALENDAR
