BEGIN:VCALENDAR
VERSION:2.0
PRODID:-//ChamberMaster//Event Calendar 2.0//EN
METHOD:PUBLISH
X-PUBLISHED-TTL:P3D
REFRESH-INTERVAL:P3D
CALSCALE:GREGORIAN
BEGIN:VEVENT
DTSTART:20140904T220000Z
DTEND:20140905T000000Z
X-MICROSOFT-CDO-ALLDAYEVENT:FALSE
SUMMARY:Business After Hours - Moretti's
DESCRIPTION:Join us for a Business After Hours at Moretti's in Schaumburg.\n\n\n\nCome for the food\, and drink while networking with those who haven't met you yet.  \n\n\n\nFREE for SBA members so be sure to register today.
X-ALT-DESC;FMTTYPE=text/html:Join us for a Business After Hours at Moretti&#39\;s in Schaumburg.<br />\n<br />\nCome for the food\, and drink while networking with those who haven&#39\;t met you yet. &nbsp\;<br />\n<br />\nFREE for SBA members so be sure to register today.&nbsp\;<br />\n<br />\n<br />\n<br />\n&nbsp\;
LOCATION:Moretti's 1893 Walden Office Square Schaumburg\, IL 60173
UID:e.9129.1056
SEQUENCE:3
DTSTAMP:20260419T130217Z
URL:https://members.schaumburgbusiness.com/events/details/business-after-hours-moretti-s-09-04-2014-1056
END:VEVENT

END:VCALENDAR
