BEGIN:VCALENDAR
VERSION:2.0
PRODID:-//ChamberMaster//Event Calendar 2.0//EN
METHOD:PUBLISH
X-PUBLISHED-TTL:P3D
REFRESH-INTERVAL:P3D
CALSCALE:GREGORIAN
BEGIN:VEVENT
DTSTART:20111025T220000Z
DTEND:20111026T000000Z
X-MICROSOFT-CDO-ALLDAYEVENT:FALSE
SUMMARY:Business After Hours at John Barleycorn
DESCRIPTION:Join us for Business After Hours at John Barelycorn!  Enjoy food and drinks while networking. FREE for SBA Members\, see you there!
X-ALT-DESC;FMTTYPE=text/html:<DIV align=center><SPAN style='FONT-FAMILY: 'Verdana'\,'sans-serif'\; COLOR: black\; FONT-SIZE: 10pt\; mso-fareast-font-family: 'Times New Roman'\; mso-bidi-font-family: 'Times New Roman'\; mso-ansi-language: EN-US\; mso-fareast-language: EN-US\; mso-bidi-language: AR-SA'><FONT color=#000080 size=4>Join us for Business After Hours at John Barelycorn!</FONT></SPAN></DIV><DIV align=center><SPAN style='FONT-FAMILY: 'Verdana'\,'sans-serif'\; COLOR: black\; FONT-SIZE: 10pt\; mso-fareast-font-family: 'Times New Roman'\; mso-bidi-font-family: 'Times New Roman'\; mso-ansi-language: EN-US\; mso-fareast-language: EN-US\; mso-bidi-language: AR-SA'></SPAN></DIV><DIV align=center><SPAN style='FONT-FAMILY: 'Verdana'\,'sans-serif'\; COLOR: black\; FONT-SIZE: 10pt\; mso-fareast-font-family: 'Times New Roman'\; mso-bidi-font-family: 'Times New Roman'\; mso-ansi-language: EN-US\; mso-fareast-language: EN-US\; mso-bidi-language: AR-SA'><FONT color=#408080 size=4></FONT></SPAN>&nbsp\;</DIV><DIV align=center><SPAN style='FONT-FAMILY: 'Verdana'\,'sans-serif'\; COLOR: black\; FONT-SIZE: 10pt\; mso-fareast-font-family: 'Times New Roman'\; mso-bidi-font-family: 'Times New Roman'\; mso-ansi-language: EN-US\; mso-fareast-language: EN-US\; mso-bidi-language: AR-SA'><FONT color=#408080 size=4></FONT></SPAN>&nbsp\;</DIV><DIV align=center><SPAN style='FONT-FAMILY: 'Verdana'\,'sans-serif'\; COLOR: black\; FONT-SIZE: 10pt\; mso-fareast-font-family: 'Times New Roman'\; mso-bidi-font-family: 'Times New Roman'\; mso-ansi-language: EN-US\; mso-fareast-language: EN-US\; mso-bidi-language: AR-SA'><FONT color=#408080 size=4>Enjoy food and drinks while networking. </FONT></SPAN></DIV><DIV align=center><SPAN style='FONT-FAMILY: 'Verdana'\,'sans-serif'\; COLOR: black\; FONT-SIZE: 10pt\; mso-fareast-font-family: 'Times New Roman'\; mso-bidi-font-family: 'Times New Roman'\; mso-ansi-language: EN-US\; mso-fareast-language: EN-US\; mso-bidi-language: AR-SA'><FONT color=#408080 size=4>FREE for SBA Members\, see you there!</FONT></SPAN></DIV>
LOCATION:John Barleycorn
UID:e.9129.288
SEQUENCE:3
DTSTAMP:20260423T171744Z
URL:https://members.schaumburgbusiness.com/events/details/business-after-hours-at-john-barleycorn-10-25-2011-288
END:VEVENT

END:VCALENDAR
