BEGIN:VCALENDAR
VERSION:2.0
PRODID:-//ChamberMaster//Event Calendar 2.0//EN
METHOD:PUBLISH
X-PUBLISHED-TTL:P3D
REFRESH-INTERVAL:P3D
CALSCALE:GREGORIAN
BEGIN:VEVENT
DTSTART:20131107T230000Z
DTEND:20131108T020000Z
X-MICROSOFT-CDO-ALLDAYEVENT:FALSE
SUMMARY:Annual SBA Pinewood Derby
DESCRIPTION:SBA Grand Prix Pinewood Derby\n	\n		\n\n		Congratulations to our winners and all those who participated!  \n\n		\n\n		Best overall Company Image -\n\n		Club Colors\, Shake & Bake\n\n		\n\n		\n			Best Engineered Car -\n\n			Curtis Newborn Photography\, Camera Car\n\n			 \n		\n			Best Support/Cheer Team -\n\n			Nation Pizza\, Pizza Mobile\n\n			 \n		\n			Most Unique Design -\n\n			BNC Quality Autobody\, Purple \n\n			 \n		\n			Dog Ugliest Car -\n\n			Divine Signs\, Doggin' It\n\n			 \n		\n			Best Sport Theme Car -\n\n			Porte Brown\, Roadster\n\n			 \n		\n			Most Feminine Car - \n\n			Chiro One Wellness\, Racer\n\n			 \n		\n			Best Schaumburg Theme - \n\n			Chick-fil-A\, Eat more Chikin\n\n			 \n		\n			Best Funny Car Resemblance -\n\n			Schaumburg Park District\, White Blaster\n\n			 \n		\n			Best Non-car Car -\n\n			3 Monkeys & Aardvark Studio\, Road Block \n	\n	\n		\n\n		 \n		\n			\n				\n				\n				\n				\n			\n			\n				\n					\n						Rank\n					\n						Car\n					\n						Company\n					\n						Car\n				\n				\n					\n						1\n					\n						27\n					\n						Starpoint\n					\n						Lambo\n				\n				\n					\n						2\n					\n						37\n					\n						Links\n					\n						Links Roll\n				\n				\n					\n						3\n					\n						57\n					\n						Entre Commercial Realty\n					\n						Entre\n				\n				\n					\n						4\n					\n						33\n					\n						Schaumburg Park District\n					\n						Spud Mobile\n				\n				\n					\n						5\n					\n						41\n					\n						Edge Communications\n					\n						Edgestermator\n				\n				\n					\n						6\n					\n						18\n					\n						Par Logistics\n					\n						The Par Truck\n				\n				\n					\n						7\n					\n						4\n					\n						Village of Schaumburg\n					\n						Vos Coup de Village\n				\n				\n					\n						8\n					\n						56\n					\n						Meltzer\, Purtill & Stelle\n					\n						Legal Eagle\n				\n				\n					\n						9\n					\n						35\n					\n						Rennaisance Convention Center Hotel\n					\n						Renaissance Racer\n				\n				\n					\n						10\n					\n						3\n					\n						Resnick Automotive Group\n					\n						Silver Mobile\n				\n				\n					\n						11\n					\n						31\n					\n						Deli Time\n					\n						Meatball sandwich\n				\n				\n					\n						12\n					\n						22\n					\n						Divine Signs\n					\n						The Wagon\n				\n				\n					\n						13\n					\n						8\n					\n						Rensick Automotive Group\n					\n						Snake Eyes\n				\n				\n					\n						14\n					\n						32\n					\n						Schaumburg Park District\n					\n						White Blaster\n				\n				\n					\n						15\n					\n						38\n					\n						Links\n					\n						Links\n				\n				\n					\n						16\n					\n						6\n					\n						Resnick Automotive Group\n					\n						#2\n				\n				\n					\n						17\n					\n						24\n					\n						Club Colors\n					\n						Vu Tang Clan\n				\n				\n					\n						18\n					\n						47\n					\n						Renewal by Anderson\n					\n						Renewal\n				\n				\n					\n						19\n					\n						15\n					\n						Curtis Newborn Photography\n					\n						Camera Car\n				\n				\n					\n						20\n					\n						20\n					\n						Divine Signs\n					\n						Vera\n				\n				\n					\n						21\n					\n						39\n					\n						Am Check Payroll\n					\n						Jelly Belly\n				\n				\n					\n						22\n					\n						11\n					\n						Porte Brown\n					\n						Roadster\n				\n				\n					\n						23\n					\n						10\n					\n						Shred It\n					\n						White Lightening\n				\n				\n					\n						24\n					\n						52\n					\n						SBA\n					\n						Blue Cuiser\n				\n				\n					\n						25\n					\n						23\n					\n						Divine Signs\n					\n						Doggin' It\n				\n				\n					\n						26\n					\n						42\n					\n						Chick-fil-A\n					\n						Eat more Chikin\n				\n				\n					\n						27\n					\n						26\n					\n						Base Zero\n					\n						Base Zero\n				\n				\n					\n						28\n					\n						12\n					\n						Porte Brown\n					\n						Yellow Spitfire\n				\n				\n					\n						29\n					\n						50\n					\n						Chiro One\n					\n						Chiro One Cruiser\n				\n				\n					\n						30\n					\n						1\n					\n						BNC Autobody Group\n					\n						Purple\n				\n				\n					\n						31\n					\n						43\n					\n						MTA\n					\n						Red Head\n				\n				\n					\n						32\n					\n						16\n					\n						Whole Foods\n					\n						Pencil\n				\n				\n					\n						33\n					\n						55\n					\n						Apple One Employment Services\n					\n						Big Apple\n				\n				\n					\n						34\n					\n						48\n					\n						Nation Pizza\n					\n						Pizza Mobile\n				\n				\n					\n						35\n					\n						44\n					\n						MTA \n					\n						#1\n				\n				\n					\n						36\n					\n						17\n					\n						Whole Foods\n					\n						Carrot\n				\n				\n					\n						37\n					\n						51\n					\n						Port-a-John\n					\n						The John\n				\n				\n					\n						38\n					\n						25\n					\n						Club Colors\n					\n						Andy Warhogs\n				\n				\n					\n						39\n					\n						19\n					\n						Divine Signs\n					\n						The Devine Wagon\n				\n				\n					\n						40\n					\n						49\n					\n						Club Colors\n					\n						Shake & Bake\n				\n				\n					\n						41\n					\n						28\n					\n						95.9 The River\n					\n						Rock & Roll\n				\n				\n					\n						42\n					\n						40\n					\n						Ala Carte \n					\n						Moretti's\n				\n				\n					\n						43\n					\n						14\n					\n						3 Monkeys & Aardvark Studio\n					\n						Artist Block\n				\n				\n					\n						44\n					\n						13\n					\n						3 Monkeys & Aardvark Studio\n					\n						Road Block\n				\n			\n		\n		\n\n		\n\n		\n\n		The SBA Grand Prix Pinewood Derby\n	\n		November 7\, 2013\n	\n		5:00 - 8:00 PM\n	\n		Held at the MTA - 710 E State Pkwy\, Schaumburg\, IL 60173\n\n		*Car kits can only be purchased at the SBA office at 1501 E. Woodfield Rd.\n	\n		 \n	\n		What is it -\n	\n		  Biggest and most unique Business After Hours.  \n	\n		  Official Pinewood Derby races\n	\n		  SBA restaurants\, bars and food trucks showcasing their specialties\n	\n		  Presenting sponsor is Resnick Automotive Group  \n	\n		  21yrs +\n	\n		  95.9 The River will be broadcasting LIVE \n	\n		  Cars can only be purchased at SBA office\n	\n		  Official racing rules can be found in SBA office and is handed out with Car Kits.
X-ALT-DESC;FMTTYPE=text/html:<div>\n	<div>\n		<strong><span style="color: rgb(0\, 0\, 128)\;">SBA Grand Prix Pinewood Derby</span></strong></div>\n	<div>\n		<br />\n		Congratulations to our winners and all those who participated! &nbsp\;<br />\n		<br />\n		Best overall Company Image -<br />\n		Club Colors\, Shake &amp\; Bake<br />\n		<br />\n		<div>\n			Best Engineered Car -<br />\n			Curtis Newborn Photography\, Camera Car<br />\n			&nbsp\;</div>\n		<div>\n			Best Support/Cheer Team -<br />\n			Nation Pizza\, Pizza Mobile<br />\n			&nbsp\;</div>\n		<div>\n			Most Unique Design -<br />\n			BNC Quality&nbsp\;Autobody\, Purple&nbsp\;<br />\n			&nbsp\;</div>\n		<div>\n			Dog Ugliest Car -<br />\n			Divine Signs\,&nbsp\;Doggin&#39\; It<br />\n			&nbsp\;</div>\n		<div>\n			Best Sport Theme Car -<br />\n			Porte Brown\, Roadster<br />\n			&nbsp\;</div>\n		<div>\n			Most Feminine Car -&nbsp\;<br />\n			Chiro&nbsp\;One Wellness\, Racer<br />\n			&nbsp\;</div>\n		<div>\n			Best Schaumburg Theme -&nbsp\;<br />\n			Chick-fil-A\, Eat more&nbsp\;Chikin<br />\n			&nbsp\;</div>\n		<div>\n			Best Funny Car Resemblance -<br />\n			Schaumburg Park District\, White Blaster<br />\n			&nbsp\;</div>\n		<div>\n			Best Non-car Car -<br />\n			3 Monkeys &amp\; Aardvark Studio\, Road Block&nbsp\;</div>\n	</div>\n	<div>\n		<br />\n		&nbsp\;\n		<table border="0" cellpadding="0" cellspacing="0" style="border-collapse:collapse\;width:515px\;" width="515">\n			<colgroup>\n				<col style="width:44px\;" />\n				<col style="width:64px\;" />\n				<col style="width:255px\;" />\n				<col style="width:152px\;" />\n			</colgroup>\n			<tbody>\n				<tr height="21" style="height:21px\;">\n					<td height="21" style="height:21px\;width:44px\;">\n						<strong>Rank</strong></td>\n					<td style="width:64px\;">\n						<strong>Car</strong></td>\n					<td style="width:255px\;">\n						<strong>Company</strong></td>\n					<td style="width:152px\;">\n						<strong>Car</strong></td>\n				</tr>\n				<tr height="20" style="height:20px\;">\n					<td height="20" style="height:20px\;">\n						<strong><span style="color:#b22222\;">1</span></strong></td>\n					<td style="border-left:none\;">\n						<strong><span style="color:#b22222\;">27</span></strong></td>\n					<td style="border-left:none\;">\n						<strong><span style="color:#b22222\;">Starpoint</span></strong></td>\n					<td style="border-left:none\;">\n						<strong><span style="color:#b22222\;">Lambo</span></strong></td>\n				</tr>\n				<tr height="20" style="height:20px\;">\n					<td height="20" style="height:20px\;border-top:none\;">\n						<strong><span style="color:#b22222\;">2</span></strong></td>\n					<td style="border-top:none\;border-left:none\;">\n						<strong><span style="color:#b22222\;">37</span></strong></td>\n					<td style="border-top:none\;border-left:none\;">\n						<strong><span style="color:#b22222\;">Links</span></strong></td>\n					<td style="border-top:none\;border-left:none\;">\n						<strong><span style="color:#b22222\;">Links Roll</span></strong></td>\n				</tr>\n				<tr height="20" style="height:20px\;">\n					<td height="20" style="height:20px\;border-top:none\;">\n						<strong><span style="color:#b22222\;">3</span></strong></td>\n					<td style="border-top:none\;border-left:none\;">\n						<strong><span style="color:#b22222\;">57</span></strong></td>\n					<td style="border-top:none\;border-left:none\;">\n						<strong><span style="color:#b22222\;">Entre Commercial Realty</span></strong></td>\n					<td style="border-top:none\;border-left:none\;">\n						<strong><span style="color:#b22222\;">Entre</span></strong></td>\n				</tr>\n				<tr height="20" style="height:20px\;">\n					<td height="20" style="height:20px\;border-top:none\;">\n						4</td>\n					<td style="border-top:none\;border-left:none\;">\n						33</td>\n					<td style="border-top:none\;border-left:none\;">\n						Schaumburg Park District</td>\n					<td style="border-top:none\;border-left:none\;">\n						Spud Mobile</td>\n				</tr>\n				<tr height="20" style="height:20px\;">\n					<td height="20" style="height:20px\;border-top:none\;">\n						5</td>\n					<td style="border-top:none\;border-left:none\;">\n						41</td>\n					<td style="border-top:none\;border-left:none\;">\n						Edge Communications</td>\n					<td style="border-top:none\;border-left:none\;">\n						Edgestermator</td>\n				</tr>\n				<tr height="20" style="height:20px\;">\n					<td height="20" style="height:20px\;border-top:none\;">\n						6</td>\n					<td style="border-top:none\;border-left:none\;">\n						18</td>\n					<td style="border-top:none\;border-left:none\;">\n						Par Logistics</td>\n					<td style="border-top:none\;border-left:none\;">\n						The Par Truck</td>\n				</tr>\n				<tr height="20" style="height:20px\;">\n					<td height="20" style="height:20px\;border-top:none\;">\n						7</td>\n					<td style="border-top:none\;border-left:none\;">\n						4</td>\n					<td style="border-top:none\;border-left:none\;">\n						Village of Schaumburg</td>\n					<td style="border-top:none\;border-left:none\;">\n						Vos Coup de Village</td>\n				</tr>\n				<tr height="20" style="height:20px\;">\n					<td height="20" style="height:20px\;border-top:none\;">\n						8</td>\n					<td style="border-top:none\;border-left:none\;">\n						56</td>\n					<td style="border-top:none\;border-left:none\;">\n						Meltzer\, Purtill &amp\; Stelle</td>\n					<td style="border-top:none\;border-left:none\;">\n						Legal Eagle</td>\n				</tr>\n				<tr height="20" style="height:20px\;">\n					<td height="20" style="height:20px\;border-top:none\;">\n						9</td>\n					<td style="border-top:none\;border-left:none\;">\n						35</td>\n					<td style="border-top:none\;border-left:none\;">\n						Rennaisance Convention Center Hotel</td>\n					<td style="border-top:none\;border-left:none\;">\n						Renaissance Racer</td>\n				</tr>\n				<tr height="20" style="height:20px\;">\n					<td height="20" style="height:20px\;border-top:none\;">\n						10</td>\n					<td style="border-top:none\;border-left:none\;">\n						3</td>\n					<td style="border-top:none\;border-left:none\;">\n						Resnick Automotive Group</td>\n					<td style="border-top:none\;border-left:none\;">\n						Silver Mobile</td>\n				</tr>\n				<tr height="20" style="height:20px\;">\n					<td height="20" style="height:20px\;border-top:none\;">\n						11</td>\n					<td style="border-top:none\;border-left:none\;">\n						31</td>\n					<td style="border-top:none\;border-left:none\;">\n						Deli Time</td>\n					<td style="border-top:none\;border-left:none\;">\n						Meatball sandwich</td>\n				</tr>\n				<tr height="20" style="height:20px\;">\n					<td height="20" style="height:20px\;border-top:none\;">\n						12</td>\n					<td style="border-top:none\;border-left:none\;">\n						22</td>\n					<td style="border-top:none\;border-left:none\;">\n						Divine Signs</td>\n					<td style="border-top:none\;border-left:none\;">\n						The Wagon</td>\n				</tr>\n				<tr height="20" style="height:20px\;">\n					<td height="20" style="height:20px\;border-top:none\;">\n						13</td>\n					<td style="border-top:none\;border-left:none\;">\n						8</td>\n					<td style="border-top:none\;border-left:none\;">\n						Rensick Automotive Group</td>\n					<td style="border-top:none\;border-left:none\;">\n						Snake Eyes</td>\n				</tr>\n				<tr height="20" style="height:20px\;">\n					<td height="20" style="height:20px\;border-top:none\;">\n						14</td>\n					<td style="border-top:none\;border-left:none\;">\n						32</td>\n					<td style="border-top:none\;border-left:none\;">\n						Schaumburg Park District</td>\n					<td style="border-top:none\;border-left:none\;">\n						White Blaster</td>\n				</tr>\n				<tr height="20" style="height:20px\;">\n					<td height="20" style="height:20px\;border-top:none\;">\n						15</td>\n					<td style="border-top:none\;border-left:none\;">\n						38</td>\n					<td style="border-top:none\;border-left:none\;">\n						Links</td>\n					<td style="border-top:none\;border-left:none\;">\n						Links</td>\n				</tr>\n				<tr height="20" style="height:20px\;">\n					<td height="20" style="height:20px\;border-top:none\;">\n						16</td>\n					<td style="border-top:none\;border-left:none\;">\n						6</td>\n					<td style="border-top:none\;border-left:none\;">\n						Resnick Automotive Group</td>\n					<td style="border-top:none\;border-left:none\;">\n						#2</td>\n				</tr>\n				<tr height="20" style="height:20px\;">\n					<td height="20" style="height:20px\;border-top:none\;">\n						17</td>\n					<td style="border-top:none\;border-left:none\;">\n						24</td>\n					<td style="border-top:none\;border-left:none\;">\n						Club Colors</td>\n					<td style="border-top:none\;border-left:none\;">\n						Vu Tang Clan</td>\n				</tr>\n				<tr height="20" style="height:20px\;">\n					<td height="20" style="height:20px\;border-top:none\;">\n						18</td>\n					<td style="border-top:none\;border-left:none\;">\n						47</td>\n					<td style="border-top:none\;border-left:none\;">\n						Renewal by Anderson</td>\n					<td style="border-top:none\;border-left:none\;">\n						Renewal</td>\n				</tr>\n				<tr height="20" style="height:20px\;">\n					<td height="20" style="height:20px\;border-top:none\;">\n						19</td>\n					<td style="border-top:none\;border-left:none\;">\n						15</td>\n					<td style="border-top:none\;border-left:none\;">\n						Curtis Newborn Photography</td>\n					<td style="border-top:none\;border-left:none\;">\n						Camera Car</td>\n				</tr>\n				<tr height="20" style="height:20px\;">\n					<td height="20" style="height:20px\;border-top:none\;">\n						20</td>\n					<td style="border-top:none\;border-left:none\;">\n						20</td>\n					<td style="border-top:none\;border-left:none\;">\n						Divine Signs</td>\n					<td style="border-top:none\;border-left:none\;">\n						Vera</td>\n				</tr>\n				<tr height="20" style="height:20px\;">\n					<td height="20" style="height:20px\;border-top:none\;">\n						21</td>\n					<td style="border-top:none\;border-left:none\;">\n						39</td>\n					<td style="border-top:none\;border-left:none\;">\n						Am Check Payroll</td>\n					<td style="border-top:none\;border-left:none\;">\n						Jelly Belly</td>\n				</tr>\n				<tr height="20" style="height:20px\;">\n					<td height="20" style="height:20px\;border-top:none\;">\n						22</td>\n					<td style="border-top:none\;border-left:none\;">\n						11</td>\n					<td style="border-top:none\;border-left:none\;">\n						Porte Brown</td>\n					<td style="border-top:none\;border-left:none\;">\n						Roadster</td>\n				</tr>\n				<tr height="20" style="height:20px\;">\n					<td height="20" style="height:20px\;border-top:none\;">\n						23</td>\n					<td style="border-top:none\;border-left:none\;">\n						10</td>\n					<td style="border-top:none\;border-left:none\;">\n						Shred It</td>\n					<td style="border-top:none\;border-left:none\;">\n						White Lightening</td>\n				</tr>\n				<tr height="20" style="height:20px\;">\n					<td height="20" style="height:20px\;border-top:none\;">\n						24</td>\n					<td style="border-top:none\;border-left:none\;">\n						52</td>\n					<td style="border-top:none\;border-left:none\;">\n						SBA</td>\n					<td style="border-top:none\;border-left:none\;">\n						Blue Cuiser</td>\n				</tr>\n				<tr height="20" style="height:20px\;">\n					<td height="20" style="height:20px\;border-top:none\;">\n						25</td>\n					<td style="border-top:none\;border-left:none\;">\n						23</td>\n					<td style="border-top:none\;border-left:none\;">\n						Divine Signs</td>\n					<td style="border-top:none\;border-left:none\;">\n						Doggin&#39\; It</td>\n				</tr>\n				<tr height="20" style="height:20px\;">\n					<td height="20" style="height:20px\;border-top:none\;">\n						26</td>\n					<td style="border-top:none\;border-left:none\;">\n						42</td>\n					<td style="border-top:none\;border-left:none\;">\n						Chick-fil-A</td>\n					<td style="border-top:none\;border-left:none\;">\n						Eat more Chikin</td>\n				</tr>\n				<tr height="20" style="height:20px\;">\n					<td height="20" style="height:20px\;border-top:none\;">\n						27</td>\n					<td style="border-top:none\;border-left:none\;">\n						26</td>\n					<td style="border-top:none\;border-left:none\;">\n						Base Zero</td>\n					<td style="border-top:none\;border-left:none\;">\n						Base Zero</td>\n				</tr>\n				<tr height="20" style="height:20px\;">\n					<td height="20" style="height:20px\;border-top:none\;">\n						28</td>\n					<td style="border-top:none\;border-left:none\;">\n						12</td>\n					<td style="border-top:none\;border-left:none\;">\n						Porte Brown</td>\n					<td style="border-top:none\;border-left:none\;">\n						Yellow Spitfire</td>\n				</tr>\n				<tr height="20" style="height:20px\;">\n					<td height="20" style="height:20px\;border-top:none\;">\n						29</td>\n					<td style="border-top:none\;border-left:none\;">\n						50</td>\n					<td style="border-top:none\;border-left:none\;">\n						Chiro One</td>\n					<td style="border-top:none\;border-left:none\;">\n						Chiro One Cruiser</td>\n				</tr>\n				<tr height="20" style="height:20px\;">\n					<td height="20" style="height:20px\;border-top:none\;">\n						30</td>\n					<td style="border-top:none\;border-left:none\;">\n						1</td>\n					<td style="border-top:none\;border-left:none\;">\n						BNC Autobody Group</td>\n					<td style="border-top:none\;border-left:none\;">\n						Purple</td>\n				</tr>\n				<tr height="20" style="height:20px\;">\n					<td height="20" style="height:20px\;border-top:none\;">\n						31</td>\n					<td style="border-top:none\;border-left:none\;">\n						43</td>\n					<td style="border-top:none\;border-left:none\;">\n						MTA</td>\n					<td style="border-top:none\;border-left:none\;">\n						Red Head</td>\n				</tr>\n				<tr height="20" style="height:20px\;">\n					<td height="20" style="height:20px\;border-top:none\;">\n						32</td>\n					<td style="border-top:none\;border-left:none\;">\n						16</td>\n					<td style="border-top:none\;border-left:none\;">\n						Whole Foods</td>\n					<td style="border-top:none\;border-left:none\;">\n						Pencil</td>\n				</tr>\n				<tr height="20" style="height:20px\;">\n					<td height="20" style="height:20px\;border-top:none\;">\n						33</td>\n					<td style="border-top:none\;border-left:none\;">\n						55</td>\n					<td style="border-top:none\;border-left:none\;">\n						Apple One Employment Services</td>\n					<td style="border-top:none\;border-left:none\;">\n						Big Apple</td>\n				</tr>\n				<tr height="20" style="height:20px\;">\n					<td height="20" style="height:20px\;border-top:none\;">\n						34</td>\n					<td style="border-top:none\;border-left:none\;">\n						48</td>\n					<td style="border-top:none\;border-left:none\;">\n						Nation Pizza</td>\n					<td style="border-top:none\;border-left:none\;">\n						Pizza Mobile</td>\n				</tr>\n				<tr height="20" style="height:20px\;">\n					<td height="20" style="height:20px\;border-top:none\;">\n						35</td>\n					<td style="border-top:none\;border-left:none\;">\n						44</td>\n					<td style="border-top:none\;border-left:none\;">\n						MTA&nbsp\;</td>\n					<td style="border-top:none\;border-left:none\;">\n						#1</td>\n				</tr>\n				<tr height="20" style="height:20px\;">\n					<td height="20" style="height:20px\;border-top:none\;">\n						36</td>\n					<td style="border-top:none\;border-left:none\;">\n						17</td>\n					<td style="border-top:none\;border-left:none\;">\n						Whole Foods</td>\n					<td style="border-top:none\;border-left:none\;">\n						Carrot</td>\n				</tr>\n				<tr height="20" style="height:20px\;">\n					<td height="20" style="height:20px\;border-top:none\;">\n						37</td>\n					<td style="border-top:none\;border-left:none\;">\n						51</td>\n					<td style="border-top:none\;border-left:none\;">\n						Port-a-John</td>\n					<td style="border-top:none\;border-left:none\;">\n						The John</td>\n				</tr>\n				<tr height="20" style="height:20px\;">\n					<td height="20" style="height:20px\;border-top:none\;">\n						38</td>\n					<td style="border-top:none\;border-left:none\;">\n						25</td>\n					<td style="border-top:none\;border-left:none\;">\n						Club Colors</td>\n					<td style="border-top:none\;border-left:none\;">\n						Andy Warhogs</td>\n				</tr>\n				<tr height="20" style="height:20px\;">\n					<td height="20" style="height:20px\;border-top:none\;">\n						39</td>\n					<td style="border-top:none\;border-left:none\;">\n						19</td>\n					<td style="border-top:none\;border-left:none\;">\n						Divine Signs</td>\n					<td style="border-top:none\;border-left:none\;">\n						The Devine Wagon</td>\n				</tr>\n				<tr height="20" style="height:20px\;">\n					<td height="20" style="height:20px\;border-top:none\;">\n						40</td>\n					<td style="border-top:none\;border-left:none\;">\n						49</td>\n					<td style="border-top:none\;border-left:none\;">\n						Club Colors</td>\n					<td style="border-top:none\;border-left:none\;">\n						Shake &amp\; Bake</td>\n				</tr>\n				<tr height="20" style="height:20px\;">\n					<td height="20" style="height:20px\;border-top:none\;">\n						41</td>\n					<td style="border-top:none\;border-left:none\;">\n						28</td>\n					<td style="border-top:none\;border-left:none\;">\n						95.9 The River</td>\n					<td style="border-top:none\;border-left:none\;">\n						Rock &amp\; Roll</td>\n				</tr>\n				<tr height="20" style="height:20px\;">\n					<td height="20" style="height:20px\;border-top:none\;">\n						42</td>\n					<td style="border-top:none\;border-left:none\;">\n						40</td>\n					<td style="border-top:none\;border-left:none\;">\n						Ala Carte&nbsp\;</td>\n					<td style="border-top:none\;border-left:none\;">\n						Moretti&#39\;s</td>\n				</tr>\n				<tr height="20" style="height:20px\;">\n					<td height="20" style="height:20px\;border-top:none\;">\n						43</td>\n					<td style="border-top:none\;border-left:none\;">\n						14</td>\n					<td style="border-top:none\;border-left:none\;">\n						3 Monkeys &amp\; Aardvark Studio</td>\n					<td style="border-top:none\;border-left:none\;">\n						Artist Block</td>\n				</tr>\n				<tr height="20" style="height:20px\;">\n					<td height="20" style="height:20px\;border-top:none\;">\n						44</td>\n					<td style="border-top:none\;border-left:none\;">\n						13</td>\n					<td style="border-top:none\;border-left:none\;">\n						3 Monkeys &amp\; Aardvark Studio</td>\n					<td style="border-top:none\;border-left:none\;">\n						Road Block</td>\n				</tr>\n			</tbody>\n		</table>\n		<br />\n		<br />\n		<br />\n		<strong>The SBA Grand Prix Pinewood Derby</strong></div>\n	<div>\n		November 7\, 2013</div>\n	<div>\n		5:00 - 8:00 PM</div>\n	<div>\n		Held at the MTA -&nbsp\;<span style="font-family: arial\, sans-serif\; font-size: 13px\; line-height: 16px\;">710 E State Pkwy\, Schaumburg\, IL 60173<br />\n		*Car kits can only be purchased at the SBA office at 1501 E.&nbsp\;Woodfield&nbsp\;Rd.</span></div>\n	<div>\n		&nbsp\;</div>\n	<div>\n		<strong>What is it</strong>&nbsp\;-</div>\n	<div>\n		&bull\;<span class="Apple-tab-span" style="white-space: pre\;"> </span>Biggest and most unique Business After Hours. &nbsp\;</div>\n	<div>\n		&bull\;<span class="Apple-tab-span" style="white-space: pre\;"> </span>Official Pinewood Derby races</div>\n	<div>\n		&bull\;<span class="Apple-tab-span" style="white-space: pre\;"> </span>SBA restaurants\, bars and food trucks showcasing their specialties</div>\n	<div>\n		&bull\;<span class="Apple-tab-span" style="white-space: pre\;"> </span>Presenting sponsor is&nbsp\;Resnick&nbsp\;Automotive Group &nbsp\;</div>\n	<div>\n		&bull\;<span class="Apple-tab-span" style="white-space: pre\;"> </span>21yrs&nbsp\;+</div>\n	<div>\n		&bull\;<span class="Apple-tab-span" style="white-space: pre\;"> </span>95.9 The River will be broadcasting LIVE&nbsp\;</div>\n	<div>\n		&bull\;<span class="Apple-tab-span" style="white-space: pre\;"> </span>Cars can only be purchased at SBA office</div>\n	<div>\n		&bull\;<span class="Apple-tab-span" style="white-space: pre\;"> </span>Official racing rules can be found in SBA office and is handed out with Car Kits. &nbsp\;</div>\n	<div>\n		<br />\n		&nbsp\;</div>\n	<div>\n		&nbsp\;</div>\n	<div>\n		&nbsp\;</div>\n</div>\n<br />\n
LOCATION:Buy Cars at SBA Office. Event Located at MTA
UID:e.9129.426
SEQUENCE:3
DTSTAMP:20260420T050445Z
URL:https://members.schaumburgbusiness.com/events/details/annual-sba-pinewood-derby-11-07-2013-426
END:VEVENT

END:VCALENDAR
