BEGIN:VCALENDAR
VERSION:2.0
PRODID:-//ChamberMaster//Event Calendar 2.0//EN
METHOD:PUBLISH
X-PUBLISHED-TTL:P3D
REFRESH-INTERVAL:P3D
CALSCALE:GREGORIAN
BEGIN:VEVENT
DTSTART:20100205T000000Z
DTEND:20100205T020000Z
X-MICROSOFT-CDO-ALLDAYEVENT:FALSE
SUMMARY:7th Annual Wine Tasting Extravaganza
DESCRIPTION:Sponsored by: American Chartered BankManulife Financial and PepsiAmerica'sCome and join over 500 people and enjoy a night filled with fabulous wines\, food and networking under the “stars” in the Schaumburg Corporate Center Atrium. Experts will be on hand to explain wine selections and answer questions. You'll receive a special gift upon arrival and an amazing raffle will be included in the evening.\n\nAppetizers provided by:  Wildfire\, Weber Grill\, Moretti's\, Morton's The Steakhouse\, Hyatt Regency Woodfield\, Sam and Harry's\, Apple Spice Junction\, Something's Cooking Catering and Moretti's\n\nWines  & Beverages provided by: WineStyles in Schaumburg\, Hess Collection Winery\, Chandler's\, The Wine Cellar\, Chicago Marriott Schaumburg\, Deli Time Catering\, Entourage on American Lane\,  Lynfred Winery\, PepsiAmericas*Water & Soda donated by PepsiAmericas*Photography - Jenkins Custom Photography* Flowers - Fabbrini's Flowers*Lighting and Audio Visuals - Directions AV*Signage - Divine Signs *Display Automobile - Schaumburg Audi*Technology - Links Technology Solutions\, Inc*Media - Daily Herald
X-ALT-DESC;FMTTYPE=text/html:<P><STRONG><FONT color=#800040></FONT></STRONG></P><P style='MARGIN-TOP: 0px\; FONT-SIZE: 14px\; COLOR: #cc0000' align=center><FONT color=#808000 size=4><EM><STRONG>Sponsored by:&nbsp\;American Chartered Bank</STRONG></EM></FONT></P><P style='MARGIN-TOP: 0px\; FONT-SIZE: 14px\; COLOR: #cc0000' align=center><STRONG><FONT color=#808000 size=4><EM>Manulife Financial&nbsp\;and PepsiAmerica's</EM></FONT></STRONG></P><P>Come and join over 500 people and enjoy a night filled with fabulous wines\, food and networking under the “stars” in the Schaumburg Corporate Center Atrium. Experts will be on hand to explain wine selections and answer questions. You'll receive a special gift upon arrival and an amazing raffle will be included in the evening.<BR><BR><STRONG>Appetizers provided by:</STRONG>&nbsp\;&nbsp\;Wildfire\, Weber Grill\,&nbsp\;Moretti's\, Morton's&nbsp\;The Steakhouse\,&nbsp\;Hyatt Regency Woodfield\, Sam and Harry's\, Apple Spice Junction\,&nbsp\;Something's Cooking Catering&nbsp\;and Moretti's<BR><BR><STRONG>Wines&nbsp\; &amp\; Beverages provided by:</STRONG> WineStyles in Schaumburg\,&nbsp\;Hess&nbsp\;Collection Winery\,&nbsp\;Chandler's\, The Wine Cellar\, Chicago Marriott&nbsp\;Schaumburg\, Deli Time Catering\, Entourage on American Lane\,&nbsp\; Lynfred Winery\,&nbsp\;PepsiAmericas</P><P style='MARGIN-TOP: 0px\; FONT-SIZE: 12px\; COLOR: #cc0000'><FONT color=#800040 size=3><STRONG>*Water&nbsp\;&amp\; Soda donated by PepsiAmericas</STRONG></FONT></P><P style='MARGIN-TOP: 0px\; FONT-SIZE: 12px\; COLOR: #cc0000'><FONT color=#800040 size=3><STRONG>*Photography&nbsp\;- Jenkins Custom Photography</STRONG></FONT></P><P style='MARGIN-TOP: 0px\; FONT-SIZE: 12px\; COLOR: #cc0000'><STRONG><FONT color=#800040 size=3>* Flowers&nbsp\;- Fabbrini's Flowers</FONT></STRONG></P><P style='MARGIN-TOP: 0px\; FONT-SIZE: 12px\; COLOR: #cc0000'><STRONG><FONT color=#800040 size=3>*Lighting and Audio Visuals - Directions AV</FONT></STRONG></P><P style='MARGIN-TOP: 0px\; FONT-SIZE: 12px\; COLOR: #cc0000'><STRONG><FONT color=#800040 size=3>*Signage - Divine Signs </FONT></STRONG></P><P style='MARGIN-TOP: 0px\; FONT-SIZE: 12px\; COLOR: #cc0000'><STRONG><FONT color=#800040 size=3>*Display Automobile - Schaumburg Audi</FONT></STRONG></P><P style='MARGIN-TOP: 0px\; FONT-SIZE: 12px\; COLOR: #cc0000'><STRONG><FONT color=#800040 size=3>*Technology - Links Technology Solutions\, Inc</FONT></STRONG></P><P style='MARGIN-TOP: 0px\; FONT-SIZE: 12px\; COLOR: #cc0000'><STRONG><FONT color=#800040 size=3>*Media - Daily Herald</FONT></STRONG></P>
LOCATION:Schaumburg Corporate Center
UID:e.9129.164
SEQUENCE:3
DTSTAMP:20260424T194227Z
URL:https://members.schaumburgbusiness.com/events/details/7th-annual-wine-tasting-extravaganza-02-04-2010-164
END:VEVENT

END:VCALENDAR
