BEGIN:VCALENDAR
VERSION:2.0
PRODID:-//ChamberMaster//Event Calendar 2.0//EN
METHOD:PUBLISH
X-PUBLISHED-TTL:P3D
REFRESH-INTERVAL:P3D
CALSCALE:GREGORIAN
BEGIN:VEVENT
DTSTART:20110920T230000Z
DTEND:20110921T010000Z
X-MICROSOFT-CDO-ALLDAYEVENT:FALSE
SUMMARY:40 Leaders Under 40 Awards Ceremony
DESCRIPTION:Join Us for the 40 Leaders Under 40 Awards Ceremony and meet our young professionals that have displayed tremendous leader skills!  Tickets: $30 for SBA Membersor $40 for Non-SBA Members  Location TBD
X-ALT-DESC;FMTTYPE=text/html:<DIV align=center><FONT color=#800040 size=4 face=Verdana><DIV align=center><DIV align=center>Join Us for the 40 Leaders Under 40 Awards Ceremony&nbsp\;and meet our young professionals that have displayed tremendous leader skills! </DIV><DIV align=center>&nbsp\;</DIV><DIV align=center>Tickets: $30 for SBA Members</DIV><DIV align=center>or $40 for Non-SBA Members&nbsp\;</DIV><DIV align=center>&nbsp\;</DIV><DIV align=center>Location TBD</DIV></DIV></FONT></DIV>
LOCATION:TBD
UID:e.9129.272
SEQUENCE:3
DTSTAMP:20260423T195554Z
URL:https://members.schaumburgbusiness.com/events/details/40-leaders-under-40-awards-ceremony-09-20-2011-272
END:VEVENT

END:VCALENDAR
