BEGIN:VCALENDAR
VERSION:2.0
PRODID:-//ChamberMaster//Event Calendar 2.0//EN
METHOD:PUBLISH
X-PUBLISHED-TTL:P3D
REFRESH-INTERVAL:P3D
CALSCALE:GREGORIAN
BEGIN:VEVENT
DTSTART:20140930T230000Z
DTEND:20141001T010000Z
X-MICROSOFT-CDO-ALLDAYEVENT:FALSE
SUMMARY:2014 Candidate's Forum
DESCRIPTION:Join us on Tuesday\, September 30th at Prairie Center for the Arts.\n\n\n\nThe Candidates Forum is free to attend\, and will feature the 8 candidates running for the 44th\, 54th\, 55th\, and 56th State Representatives District Offices. \n\n\n\nThis event takes place every 2 years as a community service for area residents to hear from their candidates.\n\n\n\nThe forum will be moderated by Dr. Paul Green from Roosevelt University. Attendees will have the opportunity to ask the candidates some questions.\n\n\n\nFree refreshments will be provided by Canteen Vending.
X-ALT-DESC;FMTTYPE=text/html:Join us on Tuesday\, September 30th at Prairie Center for the Arts.<br />\n<br />\nThe Candidates Forum is free to attend\, and will feature the 8 candidates running for the 44th\, 54th\, 55th\, and 56th&nbsp\;State Representatives District Offices.&nbsp\;<br />\n<br />\nThis event takes place every 2 years as a community service for area residents to hear from their candidates.<br />\n<br />\nThe forum will be moderated by Dr. Paul Green from Roosevelt University. Attendees will have the opportunity to ask the candidates some questions.<br />\n<br />\nFree refreshments will be provided by Canteen Vending.
LOCATION:Prairie Center for the Arts 201 Schaumburg Court Schaumburg\, IL 60193
UID:e.9129.1648
SEQUENCE:3
DTSTAMP:20260419T143254Z
URL:https://members.schaumburgbusiness.com/events/details/2014-candidate-s-forum-09-30-2014-1648
END:VEVENT

END:VCALENDAR
