BEGIN:VCALENDAR
VERSION:2.0
PRODID:-//ChamberMaster//Event Calendar 2.0//EN
METHOD:PUBLISH
X-PUBLISHED-TTL:P3D
REFRESH-INTERVAL:P3D
CALSCALE:GREGORIAN
BEGIN:VEVENT
DTSTART:20080925T233000Z
DTEND:20080926T013000Z
X-MICROSOFT-CDO-ALLDAYEVENT:FALSE
SUMMARY:2008 Candidate's Forum
DESCRIPTION:
X-ALT-DESC;FMTTYPE=text/html:
LOCATION:Prairie Center for the Arts
UID:e.9129.100
SEQUENCE:3
DTSTAMP:20260425T210856Z
URL:https://members.schaumburgbusiness.com/events/details/2008-candidate-s-forum-09-25-2008-100
END:VEVENT

END:VCALENDAR
